BEGIN:VCALENDAR
VERSION:2.0
PRODID:-//Eskilstuna Centrum - ECPv6.15.20//NONSGML v1.0//EN
CALSCALE:GREGORIAN
METHOD:PUBLISH
X-WR-CALNAME:Eskilstuna Centrum
X-ORIGINAL-URL:https://eskilstunacentrum.se
X-WR-CALDESC:Händelser för Eskilstuna Centrum
REFRESH-INTERVAL;VALUE=DURATION:PT1H
X-Robots-Tag:noindex
X-PUBLISHED-TTL:PT1H
BEGIN:VTIMEZONE
TZID:Europe/Paris
BEGIN:DAYLIGHT
TZOFFSETFROM:+0100
TZOFFSETTO:+0200
TZNAME:CEST
DTSTART:20240331T010000
END:DAYLIGHT
BEGIN:STANDARD
TZOFFSETFROM:+0200
TZOFFSETTO:+0100
TZNAME:CET
DTSTART:20241027T010000
END:STANDARD
BEGIN:DAYLIGHT
TZOFFSETFROM:+0100
TZOFFSETTO:+0200
TZNAME:CEST
DTSTART:20250330T010000
END:DAYLIGHT
BEGIN:STANDARD
TZOFFSETFROM:+0200
TZOFFSETTO:+0100
TZNAME:CET
DTSTART:20251026T010000
END:STANDARD
BEGIN:DAYLIGHT
TZOFFSETFROM:+0100
TZOFFSETTO:+0200
TZNAME:CEST
DTSTART:20260329T010000
END:DAYLIGHT
BEGIN:STANDARD
TZOFFSETFROM:+0200
TZOFFSETTO:+0100
TZNAME:CET
DTSTART:20261025T010000
END:STANDARD
END:VTIMEZONE
BEGIN:VEVENT
DTSTART;TZID=Europe/Paris:20250628T150000
DTEND;TZID=Europe/Paris:20250713T160000
DTSTAMP:20260421T195602
CREATED:20250424T141937Z
LAST-MODIFIED:20251113T160843Z
UID:3149-1751122800-1752422400@eskilstunacentrum.se
SUMMARY:Egil Skallagrimsson
DESCRIPTION:Egil Skallagrimsson var en isländsk skald och krigare. I denna pjäs\, baserad på A.U. Bååths svenska översättning\, följer vi Egil från vild barndom till ung vuxen. Efter ett kallblodigt mord flyr han från sin far och följer med sin bror till Norges kung. Under en fest gör han sig ovän med kungaparet. Drottningen\, som har en gammal konflikt med Egils familj\, ser sin chans att hämnas – men misslyckas. Egil överlever och svär att utkräva sin egen hämnd. Snart möts de igen\, men inte som han väntat sig… Pjäsen är en annorlunda tolkning av den uråldriga sagan\, trogen de händelser man tror ägt rum. Den innehåller också bevarade skalder\, som Þat mælti mín móðir – känd idag som My mother told me. En saga om hämnd\, ilska och beslutsamhet. Strid\, fräcka verser och storslagna fester. Från en tid där sagor var verklighet. \n28-29 juni 15.00-17.00 \n5-6 juli 15.00-17.00 \n12 juli 15.00-17.00 \n13 juli 14.00-16.00 \nSörmlandsgården\, Eskilstuna
URL:https://eskilstunacentrum.se/kalender/egil-skallagrimsson/
LOCATION:södermanland
CATEGORIES:Happenings
ATTACH;FMTTYPE=image/jpeg:https://eskilstunacentrum.se/wp-content/uploads/2025/04/427bfa6b64c2a74292c2a2078ebc966d-Cropped.jpg
END:VEVENT
BEGIN:VEVENT
DTSTART;TZID=Europe/Paris:20250628T110000
DTEND;TZID=Europe/Paris:20250628T210000
DTSTAMP:20260421T195602
CREATED:20250616T125559Z
LAST-MODIFIED:20251113T160843Z
UID:3361-1751108400-1751144400@eskilstunacentrum.se
SUMMARY:Lokal Matmarknad
DESCRIPTION:Lördagen den 28 juni bjuder Eskilstuna in till en smakrik fest mitt i city! På Fristadstorget samlas runt 26 lokala matutställare för årets Sörmländska Matmarknad\, med närproducerade delikatesser. \nNytt för i år är en Dryckesfestival på Kungsplan med ett 10-tal utställare som erbjuder lokala drycker. Dagen bjuder också på musikunderhållning med bland annat jazzband och sångerskan Angelina Pavanelli. \nEvenemanget arrangeras av Eskilstuna Kommun\, Sörmlands matkluster\, Nornir Brewery och Position Eskilstuna. \nFri entré – varmt välkomna!
URL:https://eskilstunacentrum.se/kalender/lokal-matmarknad/
LOCATION:södermanland
CATEGORIES:Happenings
ATTACH;FMTTYPE=image/jpeg:https://eskilstunacentrum.se/wp-content/uploads/2025/06/matmarknad-sormland-edited.jpg
END:VEVENT
BEGIN:VEVENT
DTSTART;TZID=Europe/Paris:20250627T103000
DTEND;TZID=Europe/Paris:20250627T120000
DTSTAMP:20260421T195602
CREATED:20250618T090030Z
LAST-MODIFIED:20251113T160843Z
UID:3389-1751020200-1751025600@eskilstunacentrum.se
SUMMARY:Plantera kålgårdsväxter
DESCRIPTION:Välkomna till leksmedjans trädgård för att plantera din egen kålgård i miniatyr. Vill du plantera kål\, bönor\, ärtor eller kanske ringblomma? \nVi använder återbrukade förpackningar och självklart får man ta med sig sin odling hem!
URL:https://eskilstunacentrum.se/kalender/plantera-kalgardsvaxter-2/
LOCATION:södermanland
CATEGORIES:Happenings
ATTACH;FMTTYPE=image/jpeg:https://eskilstunacentrum.se/wp-content/uploads/2025/06/radermachersmedjorna-odling-1920-1080.jpg
END:VEVENT
BEGIN:VEVENT
DTSTART;TZID=Europe/Paris:20250626T120000
DTEND;TZID=Europe/Paris:20250626T170000
DTSTAMP:20260421T195602
CREATED:20250618T085025Z
LAST-MODIFIED:20251113T160843Z
UID:3385-1750939200-1750957200@eskilstunacentrum.se
SUMMARY:Masked melody
DESCRIPTION:Masked Melody – Travprofilerna kliver upp på scen! \nTorsdag 26 juni förvandlas Fristadstorget i Eskilstuna till en plats full av travglädje\, musik och familjeaktiviteter – när Sundbyholmstravet intar centrum med Masked Melody! \nDagens höjdpunkt? Hemliga travkuskar gör upp i vår egen sångtävling\, där publiken och juryn ska försöka lista ut: vem gömmer sig bakom masken? \nMasked Melody är vår version av succékonceptet Masked Singer\, där välkända travprofiler ställer sig på scenen och sjunger – iklädda masker och kostymer som döljer deras identitet. Vem har den bästa rösten? Och vem lurar både publiken och juryn? \nDet här händer under dagen: \n12.00–17.00\nHitta din minihäst på torget – då får du fri entré till V75® på Sundbyholm! \n12.00–16.00\nGratis ponnyridning och ponnykörning för alla barn. \n12.00–16.00\nFörmånskassar till de 300 första besökarna – med travprogram\, Travronden och Eskilstuna-Kuriren. \n12.30\nTräffa en av helgens V75 profiler. \n14.00\nICA Maxi bjuder barnen på saft och bullar. Sundbyholms Konferens\, Event och Catering bjuder på smakprov från helgens V75 meny. \n14.30\nTravtips inför V75 med gäster och travsnack. \n15.00\nJanelings Konditori bjuder på specialbakelser (så långt lagret räcker). Per Skoglund provsmakar lördagens V75 meny. \n16.00\nMasked Melody – Travkuskarna sjunger live!\nJuryn består av Åsa Elmroth\, Per Skoglund med flera. \n16.50\nPrisutdelning Masked Melody \nDet här är en dag för hela familjen – med upplevelser både för travintresserade och nyfikna stadsbesökare. Ta med barnen\, vännerna och nyfikenheten – och kom till Fristadstorget för en fullspäckad eftermiddag tillsammans med Sundbyholmstravet!
URL:https://eskilstunacentrum.se/kalender/masked-melody-travprofilerna-kliver-upp-pa-scen-torsdag-26-juni-forvandlas-fristadstorget-i-eskilstuna-till-en-plats-full-av-travgladje-musik-och-familjeaktiviteter-nar-sundbyho/
LOCATION:södermanland
CATEGORIES:Happenings
ATTACH;FMTTYPE=image/jpeg:https://eskilstunacentrum.se/wp-content/uploads/2025/06/masked-singer-1920-1080.jpg
END:VEVENT
BEGIN:VEVENT
DTSTART;TZID=Europe/Paris:20250626T103000
DTEND;TZID=Europe/Paris:20250626T120000
DTSTAMP:20260421T195602
CREATED:20250618T084645Z
LAST-MODIFIED:20251113T160843Z
UID:3382-1750933800-1750939200@eskilstunacentrum.se
SUMMARY:Plantera kålgårdsväxter
DESCRIPTION:Välkomna till leksmedjans trädgård för att plantera din egen kålgård i miniatyr. Vill du plantera kål\, bönor\, ärtor eller kanske ringblomma? \nVi använder återbrukade förpackningar och självklart får man ta med sig sin odling hem!
URL:https://eskilstunacentrum.se/kalender/plantera-kalgardsvaxter/
LOCATION:södermanland
CATEGORIES:Happenings
ATTACH;FMTTYPE=image/jpeg:https://eskilstunacentrum.se/wp-content/uploads/2025/06/radermachersmedjorna-odling-1920-1080.jpg
END:VEVENT
BEGIN:VEVENT
DTSTART;TZID=Europe/Paris:20250625T160000
DTEND;TZID=Europe/Paris:20250625T200000
DTSTAMP:20260421T195602
CREATED:20250618T084122Z
LAST-MODIFIED:20251113T160843Z
UID:3379-1750867200-1750881600@eskilstunacentrum.se
SUMMARY:Vernissage: Sommar hos Boussard
DESCRIPTION:Fyra konstnärer ställer ut 25 juni-9 augusti. \n\nMonica Grahn Olsson – skulptur\, akryl\nLena Sjöberg – akvarell\nAgneta Hjalmarsson – akryl\nMats Boussard – foto\n\n\nVälkommen till Galleri Boussard på Köpmangatan 49\, Gamla Staden i Eskilstuna! \nVernissage 25 juni 16.00-20.00.\n\nÖvriga öppettider\nOnsdagar 13.00-17.00\nFredagar 13.00-18.00\nLördagar 11.00-16.00
URL:https://eskilstunacentrum.se/kalender/vernissage-sommar-hos-boussard/
LOCATION:södermanland
CATEGORIES:Happenings
ATTACH;FMTTYPE=image/jpeg:https://eskilstunacentrum.se/wp-content/uploads/2025/06/boussard-1929-1080.jpg
END:VEVENT
BEGIN:VEVENT
DTSTART;TZID=Europe/Paris:20250625T120000
DTEND;TZID=Europe/Paris:20250625T124500
DTSTAMP:20260421T195602
CREATED:20250618T083705Z
LAST-MODIFIED:20251113T160843Z
UID:3376-1750852800-1750855500@eskilstunacentrum.se
SUMMARY:Lunchmusik med MKJ
DESCRIPTION:MKJ\, eller Min Kompis och Jag\, består av Pelle Mårdh och Mats Olof Säfström. De båda musikkompisarna träffades 2000 i bandet ”Bara ben” och där växte det fram en musikalisk inriktning som de tog med sig när de senare bildade MKJ. \n”Vi spelar musik från vår tid och blandar upp den med musiken vi hör idag. Musik som vi gillar\, helt enkelt! Så det blir allt från Dan Andersson till Bruce Springsteen.” \nVarmt välkomna till en trevlig stund på Fristadstorget! \nMed reservation för ändringar. \n  \nPlats – Fristadstorget
URL:https://eskilstunacentrum.se/kalender/lunchmusik-med-mkj/
LOCATION:södermanland
CATEGORIES:Happenings
ATTACH;FMTTYPE=image/jpeg:https://eskilstunacentrum.se/wp-content/uploads/2025/06/fristadtorg-1920-1080.jpg
END:VEVENT
BEGIN:VEVENT
DTSTART;TZID=Europe/Paris:20250624T140000
DTEND;TZID=Europe/Paris:20250624T150000
DTSTAMP:20260421T195602
CREATED:20250618T090738Z
LAST-MODIFIED:20251113T160843Z
UID:3391-1750773600-1750777200@eskilstunacentrum.se
SUMMARY:Cirkusshow och prova på
DESCRIPTION:Välkommen in till Cirkus Trattofons tecknade värld! \nI denna miniföreställning blandar clownduon humor\, akrobatik\, dans och pappersattiraljer till en färgsprakande soppa. \nEfteråt blir det workshop i cirkuskonster för både barn och vuxna.
URL:https://eskilstunacentrum.se/kalender/cirkusshow-och-prova-pa/
LOCATION:södermanland
CATEGORIES:Happenings
ATTACH;FMTTYPE=image/jpeg:https://eskilstunacentrum.se/wp-content/uploads/2025/06/radermacher-clown-1920-1080.jpg
END:VEVENT
BEGIN:VEVENT
DTSTART;TZID=Europe/Paris:20250606T120000
DTEND;TZID=Europe/Paris:20250606T123000
DTSTAMP:20260421T195602
CREATED:20250512T124940Z
LAST-MODIFIED:20251113T160843Z
UID:3326-1749211200-1749213000@eskilstunacentrum.se
SUMMARY:Lunchmusik med Sign Of Music
DESCRIPTION:Sign of Music är en teckenkör som bildades för cirka fyra år sedan på en daglig verksamhet i Eskilstuna Kommun\, Arbete och aktivitet. \nDet började som en teckengrupp då många av deltagarna i gruppen använder sig av tecken som stöd. Vi lärde oss vid ett tillfälle sånger inför en avslutning och uppträdde för arbetskamrater med dem. Sen skedde det naturligt att gruppen övergick till att bara sjunga/teckna. – Det är ju bara såå roligt att få uttrycka sig med sång och musik! \nFör andra året i rad intar nu Sign Of Music Fristadstorgets scen och vi önskar er alla välkomna! \nKostnadsfritt. \nMed reservation för ändringar.
URL:https://eskilstunacentrum.se/kalender/lunchmusik-med-sign-of-music/
LOCATION:södermanland
CATEGORIES:Happenings
ATTACH;FMTTYPE=image/jpeg:https://eskilstunacentrum.se/wp-content/uploads/2025/05/Namnlos-design-7.jpg
END:VEVENT
BEGIN:VEVENT
DTSTART;TZID=Europe/Paris:20250531T120000
DTEND;TZID=Europe/Paris:20250531T124500
DTSTAMP:20260421T195602
CREATED:20250512T124058Z
LAST-MODIFIED:20251113T160843Z
UID:3321-1748692800-1748695500@eskilstunacentrum.se
SUMMARY:Lunchmusik med Ronnie Gavelin
DESCRIPTION:Ronnie Gavelin har varit verksam på Eskilstunas musikscen sedan sina tidiga tonår och synts regelbundet på scener såväl i sin hemstad som resten av landet. Han förekommer i såväl diverse bandkonstellationer som ensam på scen med sin akustiska gitarr eller piano. \nI dag rör han sig i huvudsak i någon form av singer/songwriter-tradition och framför oftast egenkomponerade\, berättande sånger inspirerad av artister som exempelvis Tom Waits\, Nick Drake\, Leonard Cohen\, Nick Cave\, Jason Isbell samt amerikansk och brittisk folk\, även om en och annan tolkning av andra artister kan smyga in också. \nFör en tid sedan släppte han sin första singel som soloartist\, Cheating Death. Ronnie har också en relativt välbesökt YouTube-kanal där han spelar in såväl egna låtar som tolkningar av andras. \nVarmt välkomna till Fristadstorget när han uppträder i samband med Internationella matmarknaden! \nKostnadsfritt. \nMed reservation för ändringar.
URL:https://eskilstunacentrum.se/kalender/lunchmusik-med-ronnie-gavelin/
LOCATION:södermanland
CATEGORIES:Happenings
ATTACH;FMTTYPE=image/jpeg:https://eskilstunacentrum.se/wp-content/uploads/2025/05/Namnlos-design-6.jpg
END:VEVENT
BEGIN:VEVENT
DTSTART;TZID=Europe/Paris:20250531T110000
DTEND;TZID=Europe/Paris:20250531T140000
DTSTAMP:20260421T195602
CREATED:20250512T123534Z
LAST-MODIFIED:20251113T160843Z
UID:3317-1748689200-1748700000@eskilstunacentrum.se
SUMMARY:Positivspelare Jan-Evert Olbrink
DESCRIPTION:Jan-Evert Olbrink gästar Fristadstorget med sitt vevpositiv! \nHan kommer att röra sig runt om på torget i samband med Internationella matmarknaden. \nVälkomna! \nMed reservation för ändringar.
URL:https://eskilstunacentrum.se/kalender/positivspelare-jan-evert-olbrink/
LOCATION:södermanland
CATEGORIES:Happenings
ATTACH;FMTTYPE=image/jpeg:https://eskilstunacentrum.se/wp-content/uploads/2025/05/Namnlos-design-5.jpg
END:VEVENT
BEGIN:VEVENT
DTSTART;TZID=Europe/Paris:20250530T120000
DTEND;TZID=Europe/Paris:20250530T124500
DTSTAMP:20260421T195602
CREATED:20250512T123052Z
LAST-MODIFIED:20251113T160843Z
UID:3314-1748606400-1748609100@eskilstunacentrum.se
SUMMARY:Lunchmusik med Andreas Isvoosig
DESCRIPTION:Andreas Isvoosig är en sörmländsk trubadur som spelar mycket både i Sverige och Norge. Han framför sina egna visor blandat med sånger av Cornelis Vreeswijk\, Fred Åkerström\, Evert Taube\, Johnny Cash\, Elvis Presley med flera. \nVarmt välkomna till Fristadstorget när han uppträder i samband med Internationella matmarknaden! \nKostnadsfritt. \nMed reservation för ändringar.
URL:https://eskilstunacentrum.se/kalender/lunchmusik-med-andreas-isvoosig/
LOCATION:södermanland
CATEGORIES:Happenings
ATTACH;FMTTYPE=image/jpeg:https://eskilstunacentrum.se/wp-content/uploads/2025/05/Namnlos-design-4.jpg
END:VEVENT
BEGIN:VEVENT
DTSTART;TZID=Europe/Paris:20250529T120000
DTEND;TZID=Europe/Paris:20250529T124500
DTSTAMP:20260421T195602
CREATED:20250512T122522Z
LAST-MODIFIED:20251113T160844Z
UID:3307-1748520000-1748522700@eskilstunacentrum.se
SUMMARY:Lunchmusik med Rogge Roll Duo
DESCRIPTION:Rogge Roll Duo består av Rolle Berg\, kompgitarr och sång\, och Tobbe Pettersson\, leadgitarr och sång. Båda började sin musikaliska bana under 60- och 70-talet. \nDe gör sina egna tolkningar av kända covers från 60-talet och framåt i nutid. På låtlistan finns Beatles\, Stones\, Dire Straits\, Jerry Williams\, Pugh Rogefeldt\,Nisse Hellberg\, Elvis\, Creedence Clearwater Revival och många fler. \nVarmt välkomna till en nostalgisk stund på Fristadstorget när de uppträder i samband med Internationella matmarknaden. \nKostnadsfritt \nMed reservation för ändringar
URL:https://eskilstunacentrum.se/kalender/lunchmusik-med-rogge-roll-duo/
LOCATION:södermanland
CATEGORIES:Happenings
ATTACH;FMTTYPE=image/jpeg:https://eskilstunacentrum.se/wp-content/uploads/2025/05/Namnlos-design-3.jpg
END:VEVENT
BEGIN:VEVENT
DTSTART;TZID=Europe/Paris:20250528T120000
DTEND;TZID=Europe/Paris:20250528T124500
DTSTAMP:20260421T195602
CREATED:20250512T121102Z
LAST-MODIFIED:20251113T160844Z
UID:3301-1748433600-1748436300@eskilstunacentrum.se
SUMMARY:Lunchmusik med Karin Gunnars
DESCRIPTION:Karin har varit verksam musiker och sångerska i många år och har sina rötter i folkmusiken. Hon har bland annat arbetat på Wallmans Nöjen och gjort 97 föreställningar med Tomas Ledin. \nKarin har stått på många scener runt om vårt land såsom under skid-VM i Åre\, som Pippi på Gotland samt showat utomlands och på kryssningsbåtar. När hon inte spelar gitarr kommer nyckelharpan fram särskilt på midsommar i Dalarna\, där hon har sitt hjärta. \nVälkomna till Fristadstorget när hon uppträder i samband med Internationella matmarknaden! \nKostnadsfritt \nMed reservation för ändringar
URL:https://eskilstunacentrum.se/kalender/lunchmusik-med-karin-gunnars/
LOCATION:södermanland
CATEGORIES:Happenings
ATTACH;FMTTYPE=image/jpeg:https://eskilstunacentrum.se/wp-content/uploads/2025/05/Namnlos-design-2.jpg
END:VEVENT
BEGIN:VEVENT
DTSTART;TZID=Europe/Paris:20250527T120000
DTEND;TZID=Europe/Paris:20250527T124500
DTSTAMP:20260421T195602
CREATED:20250512T121738Z
LAST-MODIFIED:20251113T160844Z
UID:3304-1748347200-1748349900@eskilstunacentrum.se
SUMMARY:Lunchmusik med Duo Ina
DESCRIPTION:Duo Ina är en svensk musikduo som bildades 2017 i Dalsland. \nDuon består av mor och dotter\, Helena Olsson på sång och gitarr och Sara Lind på sång\, piano och ukulele. \nDe spelar akustisk pop\, visa\, jazz och mycket mer. Stämsång är centralt i Duo Inas musicerande. \nVälkomna till en stämningsfull stund på Fristadstorget i samband med Internationella matmarknaden! \nKostnadsfritt \nMed reservation för ändringar
URL:https://eskilstunacentrum.se/kalender/lunchmusik-med-duo-ina/
LOCATION:södermanland
CATEGORIES:Happenings
ATTACH;FMTTYPE=image/jpeg:https://eskilstunacentrum.se/wp-content/uploads/2025/05/duo.jpg
END:VEVENT
BEGIN:VEVENT
DTSTART;TZID=Europe/Paris:20250527T110000
DTEND;TZID=Europe/Paris:20250531T180000
DTSTAMP:20260421T195602
CREATED:20250512T114830Z
LAST-MODIFIED:20251113T160844Z
UID:3298-1748343600-1748714400@eskilstunacentrum.se
SUMMARY:International food festival
DESCRIPTION:Den internationella matmarknaden kommer tillbaka i Eskilstuna. Med cirka 40 matstånd från 23 olika länder kan du uppleva den livliga\, multikulturella atmosfären och njuta av läcker streetfood från hela världen. \n  \nÖppettider: \nTisdag 27 maj 11.00-19.00 \nOnsdag 28 maj 11.00-19.00 \nTorsdag 29 maj 11.00-19.00 \nFredag 30 maj 11.00-20.00 \nLördag 31 maj 11.00-18.00 \nVälkommen!
URL:https://eskilstunacentrum.se/kalender/international-food-festival/
LOCATION:södermanland
CATEGORIES:Happenings
ATTACH;FMTTYPE=image/jpeg:https://eskilstunacentrum.se/wp-content/uploads/2025/05/Namnlos-design-1.jpg
END:VEVENT
BEGIN:VEVENT
DTSTART;TZID=Europe/Paris:20250517T100000
DTEND;TZID=Europe/Paris:20250518T030000
DTSTAMP:20260421T195602
CREATED:20250429T182220Z
LAST-MODIFIED:20251113T160844Z
UID:3170-1747476000-1747537200@eskilstunacentrum.se
SUMMARY:🌈 SPRINGPRIDE 2025
DESCRIPTION:Springpride är Eskilstunas egen Pridefestival – en färgsprakande manifestation för mänskliga rättigheter\, öppenhet och gemenskap. Sedan 2007 har festivalen samlat tusentals människor för att stå upp för allas rätt att vara sig själva. \nÅrets tema lyfter särskilt HBTQ-personer med funktionsnedsättning och kampen för synlighet\, tillgänglighet och likabehandling. Det är ett viktigt ämne – men Pride är också en folkfest! Under dagen bjuds det på livemusik\, tal\, utställningar och aktiviteter för hela familjen. Och såklart: den älskade Prideparaden som fyller Eskilstunas gator med kärlek och regnbågar. 🌈 \nKom\, visa ditt stöd\, fira mångfalden – och var med och skapa ett mer inkluderande Eskilstuna! \n📍 Fristadstorget\, Eskilstuna🕙 Festivalområdet öppnar kl. 10:00\, Paraden avgår kl. 15:00🎉 Pridefesten fortsätter från kl. 22:00
URL:https://eskilstunacentrum.se/kalender/%f0%9f%8c%88-springpride-2025/
LOCATION:södermanland
CATEGORIES:Happenings
ATTACH;FMTTYPE=image/jpeg:https://eskilstunacentrum.se/wp-content/uploads/2025/04/Namnlos-design-1.jpg
END:VEVENT
BEGIN:VEVENT
DTSTART;TZID=Europe/Paris:20250516T140000
DTEND;TZID=Europe/Paris:20250516T160000
DTSTAMP:20260421T195602
CREATED:20250512T084049Z
LAST-MODIFIED:20251113T160844Z
UID:3294-1747404000-1747411200@eskilstunacentrum.se
SUMMARY:Veteran SM
DESCRIPTION:🎉 Veteran-SM i bordtennis slår rekord – och firas på Fristadstorget! 🏓\n\n\n\n\n\nÖver 600 spelare gör upp i nästan 50 klasser när Veteran-SM – det största svenska mästerskapet i bordtennis – arrangeras i Eskilstuna 15–18 maj.\n\n\n\n\n\nTävlingarna spelas i Volvo CE Arena\, men torsdag 16 maj kl 14.00–16.00 flyttar festligheterna även ut till Fristadstorget!\n\n\n\n\n\n✨ På torget bjuds det på:\n\n\n• Musikunderhållning\n\n\n• Intervju med veteranen Gunnar Lingmert kl. 14.00 på scen\n\n\n• Ungdomar från Ung Fritid utmanar Gunnar i bordtennis\n\n\n\n\n\nMissa inte denna festliga aktivitet mitt i stan – fri entré och pingisglädje utlovas!\n\n\n\n\n\nVälkommen att uppleva idrott\, gemenskap och Eskilstuna i rörelse!
URL:https://eskilstunacentrum.se/kalender/veteran-sm/
LOCATION:södermanland
CATEGORIES:Happenings
ATTACH;FMTTYPE=image/jpeg:https://eskilstunacentrum.se/wp-content/uploads/2025/05/Namnlos-design.jpg
END:VEVENT
BEGIN:VEVENT
DTSTART;TZID=Europe/Paris:20250509T163000
DTEND;TZID=Europe/Paris:20250511T190000
DTSTAMP:20260421T195602
CREATED:20250429T141514Z
LAST-MODIFIED:20251113T160844Z
UID:3167-1746808200-1746990000@eskilstunacentrum.se
SUMMARY:Eskilstuna Basket Cup
DESCRIPTION:I år är det 39 år sedan vi arrangerade vår första cup. \nI helgen kommer vi under 48 timmar spela 620 matcher på 26 basketplaner i tolv hallar. 267 lag deltar i vår cup och drygt 2 500 personer bor på åtta skolor runtom i Eskilstuna. \n\nDe serveras drygt 16 000 mål mat som vi lagar själva. Vi arrangerar också ett disco med cirka 800 besökare i Lokomotivet! \n\nVi har tre egna linjebussar som kör vår egen slinga mellan hallar och logier under hela helgen och vi har åtta minibussar som kör 2–300 taxikörningar mellan övriga hallar – tuta glatt om du ser oss! 😊
URL:https://eskilstunacentrum.se/kalender/eskilstuna-basket-cup/
LOCATION:södermanland
CATEGORIES:Happenings
ATTACH;FMTTYPE=image/jpeg:https://eskilstunacentrum.se/wp-content/uploads/2025/04/123.jpg
END:VEVENT
END:VCALENDAR