BEGIN:VCALENDAR
VERSION:2.0
PRODID:-//Eskilstuna Centrum - ECPv6.15.20//NONSGML v1.0//EN
CALSCALE:GREGORIAN
METHOD:PUBLISH
X-ORIGINAL-URL:https://eskilstunacentrum.se
X-WR-CALDESC:Händelser för Eskilstuna Centrum
REFRESH-INTERVAL;VALUE=DURATION:PT1H
X-Robots-Tag:noindex
X-PUBLISHED-TTL:PT1H
BEGIN:VTIMEZONE
TZID:Europe/Paris
BEGIN:DAYLIGHT
TZOFFSETFROM:+0100
TZOFFSETTO:+0200
TZNAME:CEST
DTSTART:20250330T010000
END:DAYLIGHT
BEGIN:STANDARD
TZOFFSETFROM:+0200
TZOFFSETTO:+0100
TZNAME:CET
DTSTART:20251026T010000
END:STANDARD
BEGIN:DAYLIGHT
TZOFFSETFROM:+0100
TZOFFSETTO:+0200
TZNAME:CEST
DTSTART:20260329T010000
END:DAYLIGHT
BEGIN:STANDARD
TZOFFSETFROM:+0200
TZOFFSETTO:+0100
TZNAME:CET
DTSTART:20261025T010000
END:STANDARD
BEGIN:DAYLIGHT
TZOFFSETFROM:+0100
TZOFFSETTO:+0200
TZNAME:CEST
DTSTART:20270328T010000
END:DAYLIGHT
BEGIN:STANDARD
TZOFFSETFROM:+0200
TZOFFSETTO:+0100
TZNAME:CET
DTSTART:20271031T010000
END:STANDARD
END:VTIMEZONE
BEGIN:VEVENT
DTSTART;TZID=Europe/Paris:20260111T150000
DTEND;TZID=Europe/Paris:20260111T170000
DTSTAMP:20260421T150045
CREATED:20251221T235057Z
LAST-MODIFIED:20251221T235057Z
UID:4242-1768143600-1768150800@eskilstunacentrum.se
SUMMARY:HK Eskil - Gimonäs Umeå IF
DESCRIPTION:HK Eskil tar emot gästande Gimonäs Umeå IF i handbollens division 1 på Volvo CE Arena. \nSom vanligt är kiosken och merch-försäljningen öppen och en spännande och härlig stämning utlovas. \nVarmt välkommen! \nBiljettinformation \nInträde betalas i entrén med Swish: \nOrdinarie pris: 80 kr\nBarn (0-16 år) Fri entré\nPensionär: 50 kr
URL:https://eskilstunacentrum.se/kalender/hk-eskil-gimonas-umea-if/
LOCATION:Volvo CE arena\, Arenatorget 1\, Eskilstuna\, södermanland\, 633 61
ATTACH;FMTTYPE=image/jpeg:https://eskilstunacentrum.se/wp-content/uploads/2025/10/hk-eskil.jpg
END:VEVENT
END:VCALENDAR