BEGIN:VCALENDAR
VERSION:2.0
PRODID:-//Eskilstuna Centrum - ECPv6.15.20//NONSGML v1.0//EN
CALSCALE:GREGORIAN
METHOD:PUBLISH
X-WR-CALNAME:Eskilstuna Centrum
X-ORIGINAL-URL:https://eskilstunacentrum.se
X-WR-CALDESC:Händelser för Eskilstuna Centrum
REFRESH-INTERVAL;VALUE=DURATION:PT1H
X-Robots-Tag:noindex
X-PUBLISHED-TTL:PT1H
BEGIN:VTIMEZONE
TZID:Europe/Paris
BEGIN:DAYLIGHT
TZOFFSETFROM:+0100
TZOFFSETTO:+0200
TZNAME:CEST
DTSTART:20250330T010000
END:DAYLIGHT
BEGIN:STANDARD
TZOFFSETFROM:+0200
TZOFFSETTO:+0100
TZNAME:CET
DTSTART:20251026T010000
END:STANDARD
BEGIN:DAYLIGHT
TZOFFSETFROM:+0100
TZOFFSETTO:+0200
TZNAME:CEST
DTSTART:20260329T010000
END:DAYLIGHT
BEGIN:STANDARD
TZOFFSETFROM:+0200
TZOFFSETTO:+0100
TZNAME:CET
DTSTART:20261025T010000
END:STANDARD
BEGIN:DAYLIGHT
TZOFFSETFROM:+0100
TZOFFSETTO:+0200
TZNAME:CEST
DTSTART:20270328T010000
END:DAYLIGHT
BEGIN:STANDARD
TZOFFSETFROM:+0200
TZOFFSETTO:+0100
TZNAME:CET
DTSTART:20271031T010000
END:STANDARD
END:VTIMEZONE
BEGIN:VEVENT
DTSTART;TZID=Europe/Paris:20260104T170000
DTEND;TZID=Europe/Paris:20260104T190000
DTSTAMP:20260422T024655
CREATED:20251221T234711Z
LAST-MODIFIED:20251221T234711Z
UID:4237-1767546000-1767553200@eskilstunacentrum.se
SUMMARY:Julkonsert: A Ceremony of Carols av Benjamin Britten
DESCRIPTION:Puellakören återförenas med traditionsenlig julkonsert: A Ceremony of Carols av Benjamin Britten. \nAckompanjemang av konsertharpisten: Gabriela Thür. \nUnder ledning av: Ulf Selander\, Richard McGovern och Therése Wiberg. \nFri entré
URL:https://eskilstunacentrum.se/kalender/julkonsert-a-ceremony-of-carols-av-benjamin-britten/
LOCATION:Fors Kyrka\, Nygatan 1\, Eskilstuna\, södermanland\, 632 19\, Sweden
ATTACH;FMTTYPE=image/jpeg:https://eskilstunacentrum.se/wp-content/uploads/2025/12/julkonserty.jpg
END:VEVENT
END:VCALENDAR