BEGIN:VCALENDAR
VERSION:2.0
PRODID:-//Eskilstuna Centrum - ECPv6.15.20//NONSGML v1.0//EN
CALSCALE:GREGORIAN
METHOD:PUBLISH
X-ORIGINAL-URL:https://eskilstunacentrum.se
X-WR-CALDESC:Händelser för Eskilstuna Centrum
REFRESH-INTERVAL;VALUE=DURATION:PT1H
X-Robots-Tag:noindex
X-PUBLISHED-TTL:PT1H
BEGIN:VTIMEZONE
TZID:Europe/Paris
BEGIN:DAYLIGHT
TZOFFSETFROM:+0100
TZOFFSETTO:+0200
TZNAME:CEST
DTSTART:20250330T010000
END:DAYLIGHT
BEGIN:STANDARD
TZOFFSETFROM:+0200
TZOFFSETTO:+0100
TZNAME:CET
DTSTART:20251026T010000
END:STANDARD
BEGIN:DAYLIGHT
TZOFFSETFROM:+0100
TZOFFSETTO:+0200
TZNAME:CEST
DTSTART:20260329T010000
END:DAYLIGHT
BEGIN:STANDARD
TZOFFSETFROM:+0200
TZOFFSETTO:+0100
TZNAME:CET
DTSTART:20261025T010000
END:STANDARD
BEGIN:DAYLIGHT
TZOFFSETFROM:+0100
TZOFFSETTO:+0200
TZNAME:CEST
DTSTART:20270328T010000
END:DAYLIGHT
BEGIN:STANDARD
TZOFFSETFROM:+0200
TZOFFSETTO:+0100
TZNAME:CET
DTSTART:20271031T010000
END:STANDARD
END:VTIMEZONE
BEGIN:VEVENT
DTSTART;TZID=Europe/Paris:20260102T100000
DTEND;TZID=Europe/Paris:20260102T160000
DTSTAMP:20260422T062504
CREATED:20251221T233201Z
LAST-MODIFIED:20251221T233201Z
UID:4235-1767348000-1767369600@eskilstunacentrum.se
SUMMARY:Tomtejakten
DESCRIPTION:Här är en tomtenisse som i bor i stadsmuseets magasin. Han tycker mycket om att ta selfies. \nNu har han varit på besök på stadsmuseet. Han var så nöjd med sin selfie att han har satt upp många bilder av sig själv på museet. Hittar du alla? Du har chans att vinna fina priser!
URL:https://eskilstunacentrum.se/kalender/tomtejakten-2/
LOCATION:Eskilstuna Stadsmuseum\, Faktorigatan 4B\, Eskilstuna\, södermanland\, 632 17\, Sweden
ATTACH;FMTTYPE=image/jpeg:https://eskilstunacentrum.se/wp-content/uploads/2025/12/eventimage-2.jpeg
END:VEVENT
BEGIN:VEVENT
DTSTART;TZID=Europe/Paris:20260102T110000
DTEND;TZID=Europe/Paris:20260102T120000
DTSTAMP:20260422T062504
CREATED:20251221T232918Z
LAST-MODIFIED:20251221T233025Z
UID:4230-1767351600-1767355200@eskilstunacentrum.se
SUMMARY:Kom och åk skridskor
DESCRIPTION:Kom och åk skridskor på Fristadstorget tillsammans med Mötesplatser för personer med funktions­nedsättning. \nSkridskor och hjälm finns att låna på plats.
URL:https://eskilstunacentrum.se/kalender/kom-och-ak-skridskor/
LOCATION:Fristadstorget\, Eskilstuna\, södermanland\, 632 18
ATTACH;FMTTYPE=image/jpeg:https://eskilstunacentrum.se/wp-content/uploads/2025/12/skating-boots-6657328.jpg
END:VEVENT
END:VCALENDAR