BEGIN:VCALENDAR
VERSION:2.0
PRODID:-//Eskilstuna Centrum - ECPv6.15.20//NONSGML v1.0//EN
CALSCALE:GREGORIAN
METHOD:PUBLISH
X-ORIGINAL-URL:https://eskilstunacentrum.se
X-WR-CALDESC:Händelser för Eskilstuna Centrum
REFRESH-INTERVAL;VALUE=DURATION:PT1H
X-Robots-Tag:noindex
X-PUBLISHED-TTL:PT1H
BEGIN:VTIMEZONE
TZID:Europe/Paris
BEGIN:DAYLIGHT
TZOFFSETFROM:+0100
TZOFFSETTO:+0200
TZNAME:CEST
DTSTART:20240331T010000
END:DAYLIGHT
BEGIN:STANDARD
TZOFFSETFROM:+0200
TZOFFSETTO:+0100
TZNAME:CET
DTSTART:20241027T010000
END:STANDARD
BEGIN:DAYLIGHT
TZOFFSETFROM:+0100
TZOFFSETTO:+0200
TZNAME:CEST
DTSTART:20250330T010000
END:DAYLIGHT
BEGIN:STANDARD
TZOFFSETFROM:+0200
TZOFFSETTO:+0100
TZNAME:CET
DTSTART:20251026T010000
END:STANDARD
BEGIN:DAYLIGHT
TZOFFSETFROM:+0100
TZOFFSETTO:+0200
TZNAME:CEST
DTSTART:20260329T010000
END:DAYLIGHT
BEGIN:STANDARD
TZOFFSETFROM:+0200
TZOFFSETTO:+0100
TZNAME:CET
DTSTART:20261025T010000
END:STANDARD
END:VTIMEZONE
BEGIN:VEVENT
DTSTART;TZID=Europe/Paris:20251229T110000
DTEND;TZID=Europe/Paris:20251229T150000
DTSTAMP:20260422T130548
CREATED:20251221T230942Z
LAST-MODIFIED:20251221T230942Z
UID:4220-1767006000-1767020400@eskilstunacentrum.se
SUMMARY:Testa handboll
DESCRIPTION:Kom och testa handboll i en rolig och lekfull miljö! Den 22 och 29 december öppnar Eskilstuna Guif dörrarna till Volvo CE Arena för alla barn 6–12 år. Ta med kompisarna och kom! \nKostnadsfritt och öppet för alla 6-12 år. \nIngen föranmälan behövs – det är bara att dyka upp! \nLedare från Guifs junior-\, dam- och herrlag finns på plats. Vi använder Svenska Handboll­förbundets koncept ”Hand the ball” för rörelse­glädje och gemenskap. \nAktiviteten genomförs med lovstöd från Eskilstuna kommun och i samverkan med våra partners Victoriahem och Kfast.
URL:https://eskilstunacentrum.se/kalender/testa-handboll/
LOCATION:Volvo CE arena\, Arenatorget 1\, Eskilstuna\, södermanland\, 633 61
ATTACH;FMTTYPE=image/jpeg:https://eskilstunacentrum.se/wp-content/uploads/2025/12/ball-1930198.jpg
END:VEVENT
END:VCALENDAR