BEGIN:VCALENDAR
VERSION:2.0
PRODID:-//Eskilstuna Centrum - ECPv6.15.20//NONSGML v1.0//EN
CALSCALE:GREGORIAN
METHOD:PUBLISH
X-ORIGINAL-URL:https://eskilstunacentrum.se
X-WR-CALDESC:Händelser för Eskilstuna Centrum
REFRESH-INTERVAL;VALUE=DURATION:PT1H
X-Robots-Tag:noindex
X-PUBLISHED-TTL:PT1H
BEGIN:VTIMEZONE
TZID:Europe/Paris
BEGIN:DAYLIGHT
TZOFFSETFROM:+0100
TZOFFSETTO:+0200
TZNAME:CEST
DTSTART:20240331T010000
END:DAYLIGHT
BEGIN:STANDARD
TZOFFSETFROM:+0200
TZOFFSETTO:+0100
TZNAME:CET
DTSTART:20241027T010000
END:STANDARD
BEGIN:DAYLIGHT
TZOFFSETFROM:+0100
TZOFFSETTO:+0200
TZNAME:CEST
DTSTART:20250330T010000
END:DAYLIGHT
BEGIN:STANDARD
TZOFFSETFROM:+0200
TZOFFSETTO:+0100
TZNAME:CET
DTSTART:20251026T010000
END:STANDARD
BEGIN:DAYLIGHT
TZOFFSETFROM:+0100
TZOFFSETTO:+0200
TZNAME:CEST
DTSTART:20260329T010000
END:DAYLIGHT
BEGIN:STANDARD
TZOFFSETFROM:+0200
TZOFFSETTO:+0100
TZNAME:CET
DTSTART:20261025T010000
END:STANDARD
END:VTIMEZONE
BEGIN:VEVENT
DTSTART;TZID=Europe/Paris:20251228T100000
DTEND;TZID=Europe/Paris:20251228T160000
DTSTAMP:20260422T131859
CREATED:20251221T225440Z
LAST-MODIFIED:20251221T234534Z
UID:4214-1766916000-1766937600@eskilstunacentrum.se
SUMMARY:Tomtejakten
DESCRIPTION:Här är en tomtenisse som i bor i stadsmuseets magasin. Han tycker mycket om att ta selfies. \nNu har han varit på besök på stadsmuseet. Han var så nöjd med sin selfie att han har satt upp många bilder av sig själv på museet. Hittar du alla? Du har chans att vinna fina priser!
URL:https://eskilstunacentrum.se/kalender/tomtejakten/
LOCATION:Eskilstuna Stadsmuseum\, Faktorigatan 4B\, Eskilstuna\, södermanland\, 632 17\, Sweden
ATTACH;FMTTYPE=image/jpeg:https://eskilstunacentrum.se/wp-content/uploads/2025/12/eventimage-2.jpeg
END:VEVENT
BEGIN:VEVENT
DTSTART;TZID=Europe/Paris:20251228T130000
DTEND;TZID=Europe/Paris:20251228T150000
DTSTAMP:20260422T131859
CREATED:20251221T230801Z
LAST-MODIFIED:20251221T230801Z
UID:4217-1766926800-1766934000@eskilstunacentrum.se
SUMMARY:Ångmaskinskörning
DESCRIPTION:Kom och se våra ångmaskiner i arbete och rörelse! \nÅngmaskinen var viktig för utvecklingen av industri och tillverkning under 1800-talet och början av 1900-talet\, inte minst i fabriksstaden Eskilstuna. \nI Ångmaskinhallen på Eskilstuna stadsmuseum finns ångmaskiner som arbetat vid olika fabriker i Eskilstuna. Några av dem är till och med tillverkade i Eskilstuna\, av Munktells Mekaniska verkstad. \nVarmt välkomna!
URL:https://eskilstunacentrum.se/kalender/angmaskinskorning-2/
LOCATION:Eskilstuna Stadsmuseum\, Faktorigatan 4B\, Eskilstuna\, södermanland\, 632 17\, Sweden
ATTACH;FMTTYPE=image/jpeg:https://eskilstunacentrum.se/wp-content/uploads/2025/12/steam-engine-4524438.jpg
END:VEVENT
END:VCALENDAR