BEGIN:VCALENDAR
VERSION:2.0
PRODID:-//Eskilstuna Centrum - ECPv6.15.20//NONSGML v1.0//EN
CALSCALE:GREGORIAN
METHOD:PUBLISH
X-WR-CALNAME:Eskilstuna Centrum
X-ORIGINAL-URL:https://eskilstunacentrum.se
X-WR-CALDESC:Händelser för Eskilstuna Centrum
REFRESH-INTERVAL;VALUE=DURATION:PT1H
X-Robots-Tag:noindex
X-PUBLISHED-TTL:PT1H
BEGIN:VTIMEZONE
TZID:Europe/Paris
BEGIN:DAYLIGHT
TZOFFSETFROM:+0100
TZOFFSETTO:+0200
TZNAME:CEST
DTSTART:20240331T010000
END:DAYLIGHT
BEGIN:STANDARD
TZOFFSETFROM:+0200
TZOFFSETTO:+0100
TZNAME:CET
DTSTART:20241027T010000
END:STANDARD
BEGIN:DAYLIGHT
TZOFFSETFROM:+0100
TZOFFSETTO:+0200
TZNAME:CEST
DTSTART:20250330T010000
END:DAYLIGHT
BEGIN:STANDARD
TZOFFSETFROM:+0200
TZOFFSETTO:+0100
TZNAME:CET
DTSTART:20251026T010000
END:STANDARD
BEGIN:DAYLIGHT
TZOFFSETFROM:+0100
TZOFFSETTO:+0200
TZNAME:CEST
DTSTART:20260329T010000
END:DAYLIGHT
BEGIN:STANDARD
TZOFFSETFROM:+0200
TZOFFSETTO:+0100
TZNAME:CET
DTSTART:20261025T010000
END:STANDARD
END:VTIMEZONE
BEGIN:VEVENT
DTSTART;TZID=Europe/Paris:20251210T000000
DTEND;TZID=Europe/Paris:20251214T000000
DTSTAMP:20260422T132754
CREATED:20251105T074047Z
LAST-MODIFIED:20251113T160835Z
UID:4115-1765324800-1765670400@eskilstunacentrum.se
SUMMARY:SM i simning 2025
DESCRIPTION:Svensk Simidrott och Eskilstuna Simklubb arrangerar SM i simning i kortbana 10-14 december. Kom och se elitidrott i världsklass när den svenska simeliten samlas i Munktellbadet för att göra upp om titlarna! \nFörsök på förmiddagarna och rafflande finaler med härlig inramning på kvällarna. \nVarmt välkomna!
URL:https://eskilstunacentrum.se/kalender/sm-i-simning-2025/
LOCATION:Munktellbadet\, Holger Lindmarks plats 4\, Eskilstuna\, södermanland\, 633 61
CATEGORIES:Happenings
ATTACH;FMTTYPE=image/jpeg:https://eskilstunacentrum.se/wp-content/uploads/2025/11/simmaSM.jpg
END:VEVENT
BEGIN:VEVENT
DTSTART;TZID=Europe/Paris:20251212T170000
DTEND;TZID=Europe/Paris:20251214T010000
DTSTAMP:20260422T132754
CREATED:20251121T080929Z
LAST-MODIFIED:20251121T080952Z
UID:4182-1765558800-1765674000@eskilstunacentrum.se
SUMMARY:Luciarock 2025 - metalfestival
DESCRIPTION:”Århundradets svenska hårdrocksgig! Vilket dröm att få dela scen med så många legendariska svenska band. Köper man inte biljett till detta är man inte hårdrockare.” \nJa så skriver Sveriges internationellt största flaggskepp för klassisk heavy metal\, Enforcer\, på sin facebooksida. Nu är det äntligen klart att Eskilstuna får en ny festival för old school classic heavy metal: Luciarock 2025. Idén har funnits en längre tid att skapa en metalfestival med inspiration från det klassiska ögonblicket i december 1983 från Westfalenhalle\, Dortmund. För en hel generation satte just det tv-sända programmet som samsändes i radio\, standarden för hur det skulle låta\, se ut och vara\, för killar och tjejer i hela vårt avlånga land som gillade hårdrock och hade alla posters på väggen hemma\, från tidningar som Olej och Poster. Hur många laddade inte VHS-spelaren och ett kassettband (för bättre ljud) just denna kväll\, när internet\, mobil och andra tv-kanaler och radiokanaler inte ens var påtänkta. Till det så är inspirationen såklart\,  First Wave Of Swedish Heavy Metal (FWOSHM) i allmänhet och New Wave Of British Heavy Metal (NWOBHM) i synnerhet). \nNu ska vi försöka att återskapa detta\, och nu första året satsar vi på att hylla de svenska heavy metal band som kom först och krattade manegen för de svenska hårdrock- och heavy metal band som idag dominerar scener och festivaler jorden runt. \nFestivalen äger rum i två arenor\, för kvällarna med nya tillfälliga namn. \nFredag 12 december\nStadtfalenhalle (Biff Grill & Bar) \nLineup:\n– Bullet\n– Steelwings\n– Helvetes port\n– Slingblade\n– Aerodyne\n– Bronze\n– Templar\n– Lead Breaker \nLördag 13 december\nNorthfalenhalle (Lokomotivet)\nLineup:\n– Torch\n– Mindless sinner\n– Axewitch\n– Enforcer\n– Ambush\n– 220V \nHårdrocks-dj: Toffsy. \nMat och bar (fullständiga rättigheter). \nBiljetter via Nortic (se länk). Det finns endags- och tvådagsbiljetter.
URL:https://eskilstunacentrum.se/kalender/luciarock-2025-metalfestival/
LOCATION:Lokomotivet\, Verkstadsgatan 8\, Eskilstuna\, södermanland\, 633 61
ATTACH;FMTTYPE=image/jpeg:https://eskilstunacentrum.se/wp-content/uploads/2025/11/concert-1748102.jpg
END:VEVENT
BEGIN:VEVENT
DTSTART;TZID=Europe/Paris:20251213T140000
DTEND;TZID=Europe/Paris:20251213T153000
DTSTAMP:20260422T132755
CREATED:20251121T081138Z
LAST-MODIFIED:20251121T081634Z
UID:4186-1765634400-1765639800@eskilstunacentrum.se
SUMMARY:Ölprovning
DESCRIPTION:Provningen hålls av den rutinerade ölgurun Tord Nyman. \n5 olika öl provas\, både gamla och nya godingar. \nMat går att köpa före/efter provningen. Vi erbjuder 20% rabatt på maten för deltagare. \nKostnad 495:- per person. Boka biljett via Tickster (se länk).
URL:https://eskilstunacentrum.se/kalender/olprovning-4/
LOCATION:Eskilstuna ölkultur\, Faktorigatan 1\, Eskilstuna\, södermanland\, 632 17\, Sweden
ATTACH;FMTTYPE=image/jpeg:https://eskilstunacentrum.se/wp-content/uploads/2025/09/beer-1920.jpg
END:VEVENT
BEGIN:VEVENT
DTSTART;TZID=Europe/Paris:20251213T150000
DTEND;TZID=Europe/Paris:20251213T170000
DTSTAMP:20260422T132755
CREATED:20251121T081425Z
LAST-MODIFIED:20251121T081425Z
UID:4188-1765638000-1765645200@eskilstunacentrum.se
SUMMARY:Barnens julvärld med Nassim Al Fakir
DESCRIPTION:Barnens julvärld är en sprudlande julshow för hela familjen – med Nassim Al Fakir. \nLagom till jul bjuder vi in till en fartfylld\, färgsprakande och hjärtvärmande jul­föreställning för hela familjen: Barnens julvärld\, med den folkkäre artisten Nassim Al Fakir i spetsen. \nDet blir en magisk show fylld av musik\, humor\, interaktivitet och tokiga upptåg – perfekt för barn mellan 3 och 10 år\, och deras vuxna. \nI Barnens julvärld möter vi den tokiga tomtenissen Nassim\, som av misstag råkat blanda ihop alla julklappar… och kanske även texterna till julsångerna. Med hjälp av publiken försöker han lösa julens mysterier – och det blir en föreställning där allt kan hända. \nShowen bjuder på välkända jullåtar i nya tappningar\, levande musik\, interaktiva inslag och massor av skratt. Barnen får sjunga med\, klappa takten och vara en del av äventyret – direkt från sina platser. \n”Julen är magisk – och det är något alldeles speciellt att få skapa den magin tillsammans med barnen. Vi skrattar\, sjunger\, klantar oss lite – och framför allt har vi riktigt kul tillsammans. Det är så jag tycker en julshow ska vara.” – Nassim Al Fakir \nBarnens julvärld är inte som någon annan julföreställning – det är en ny\, musikalisk\, tokrolig och hjärtlig upplevelse skapad med barnens perspektiv i centrum. En show där publiken får vara med\, där julen vänds lite upp och ner – och där skrattet står i centrum. \n#bkh25 \nBiljettinformation\nVuxen 350kr + serviceavgift Barn 250kr + serviceavgift
URL:https://eskilstunacentrum.se/kalender/barnens-julvarld-med-nassim-al-fakir/
LOCATION:Eskilstuna Teater\, J A Selanders gata 5\, Eskilstuna\, södermanland\, 632 18
ATTACH;FMTTYPE=image/jpeg:https://eskilstunacentrum.se/wp-content/uploads/2025/11/image.jpeg
END:VEVENT
BEGIN:VEVENT
DTSTART;TZID=Europe/Paris:20251213T170000
DTEND;TZID=Europe/Paris:20251213T190000
DTSTAMP:20260422T132755
CREATED:20250925T122004Z
LAST-MODIFIED:20251120T155814Z
UID:3885-1765645200-1765652400@eskilstunacentrum.se
SUMMARY:Luciamys
DESCRIPTION:Lördagen den 13 december kl. 17.00-19.00 förvandlas Gamla Staden och Köpmangatan till en magisk plats fylld av ljus\, sång och gemenskap.\nTa en kvällspromenad bland marknadsstånd\, njut av doften av pepparkakor och glögg\, och låt dig värmas av stämningsfulla toner.\nDessutom bjuder vi på något alldeles extra: ett SUP-luciatåg på ån – där ljus och vatten möts på ett sätt ni sent kommer att glömma!\nLuciamys är ett kostnadsfritt arrangemang med syfte att sprida glädje och omtanke hos Eskilstunaborna. \nAllt ev överskott går till en lokal förening eller välgörenhetsorg.\nArr: Position Eskilstuna\, Föreningen Omtanke\, Eskilstuna SUP och Collander Grafiska
URL:https://eskilstunacentrum.se/kalender/luciamys/
LOCATION:Fristadstorget\, Eskilstuna\, södermanland\, 632 18
CATEGORIES:Happenings
ATTACH;FMTTYPE=image/jpeg:https://eskilstunacentrum.se/wp-content/uploads/2025/09/julmys.jpg
END:VEVENT
END:VCALENDAR