BEGIN:VCALENDAR
VERSION:2.0
PRODID:-//Eskilstuna Centrum - ECPv6.15.20//NONSGML v1.0//EN
CALSCALE:GREGORIAN
METHOD:PUBLISH
X-ORIGINAL-URL:https://eskilstunacentrum.se
X-WR-CALDESC:Händelser för Eskilstuna Centrum
REFRESH-INTERVAL;VALUE=DURATION:PT1H
X-Robots-Tag:noindex
X-PUBLISHED-TTL:PT1H
BEGIN:VTIMEZONE
TZID:Europe/Paris
BEGIN:DAYLIGHT
TZOFFSETFROM:+0100
TZOFFSETTO:+0200
TZNAME:CEST
DTSTART:20240331T010000
END:DAYLIGHT
BEGIN:STANDARD
TZOFFSETFROM:+0200
TZOFFSETTO:+0100
TZNAME:CET
DTSTART:20241027T010000
END:STANDARD
BEGIN:DAYLIGHT
TZOFFSETFROM:+0100
TZOFFSETTO:+0200
TZNAME:CEST
DTSTART:20250330T010000
END:DAYLIGHT
BEGIN:STANDARD
TZOFFSETFROM:+0200
TZOFFSETTO:+0100
TZNAME:CET
DTSTART:20251026T010000
END:STANDARD
BEGIN:DAYLIGHT
TZOFFSETFROM:+0100
TZOFFSETTO:+0200
TZNAME:CEST
DTSTART:20260329T010000
END:DAYLIGHT
BEGIN:STANDARD
TZOFFSETFROM:+0200
TZOFFSETTO:+0100
TZNAME:CET
DTSTART:20261025T010000
END:STANDARD
END:VTIMEZONE
BEGIN:VEVENT
DTSTART;TZID=Europe/Paris:20251210T000000
DTEND;TZID=Europe/Paris:20251214T000000
DTSTAMP:20260422T132814
CREATED:20251105T074047Z
LAST-MODIFIED:20251113T160835Z
UID:4115-1765324800-1765670400@eskilstunacentrum.se
SUMMARY:SM i simning 2025
DESCRIPTION:Svensk Simidrott och Eskilstuna Simklubb arrangerar SM i simning i kortbana 10-14 december. Kom och se elitidrott i världsklass när den svenska simeliten samlas i Munktellbadet för att göra upp om titlarna! \nFörsök på förmiddagarna och rafflande finaler med härlig inramning på kvällarna. \nVarmt välkomna!
URL:https://eskilstunacentrum.se/kalender/sm-i-simning-2025/
LOCATION:Munktellbadet\, Holger Lindmarks plats 4\, Eskilstuna\, södermanland\, 633 61
CATEGORIES:Happenings
ATTACH;FMTTYPE=image/jpeg:https://eskilstunacentrum.se/wp-content/uploads/2025/11/simmaSM.jpg
END:VEVENT
BEGIN:VEVENT
DTSTART;TZID=Europe/Paris:20251212T130000
DTEND;TZID=Europe/Paris:20251212T140000
DTSTAMP:20260422T132814
CREATED:20251121T080643Z
LAST-MODIFIED:20251121T080643Z
UID:4178-1765544400-1765548000@eskilstunacentrum.se
SUMMARY:Musikcafe: En stund på jorden
DESCRIPTION:Välkommen att njuta av stämningsfull musik av sångerskan Malin Wester Fröst och pianisten Arne Tengstrand hos ABF i Eskilstuna. \nAnmäl er gärna på telefon 016-16 67 00.\nABF bjuder på kaffe & kaka.\nFri entré \n———–\nDetta musikcafé är en del av vårt arbete för att motverka ofrivillig ensamhet – ett fint tillfälle att komma ut\, träffa andra och dela en gemensam upplevelse.
URL:https://eskilstunacentrum.se/kalender/musikcafe-en-stund-pa-jorden/
LOCATION:ABF-huset\, Kungsgatan 14\, Eskilstuna\, södermanland\, 632 19\, Sweden
ATTACH;FMTTYPE=image/jpeg:https://eskilstunacentrum.se/wp-content/uploads/2025/11/malinwesterfrost-cc-1-web.jpg
END:VEVENT
BEGIN:VEVENT
DTSTART;TZID=Europe/Paris:20251212T170000
DTEND;TZID=Europe/Paris:20251214T010000
DTSTAMP:20260422T132814
CREATED:20251121T080929Z
LAST-MODIFIED:20251121T080952Z
UID:4182-1765558800-1765674000@eskilstunacentrum.se
SUMMARY:Luciarock 2025 - metalfestival
DESCRIPTION:”Århundradets svenska hårdrocksgig! Vilket dröm att få dela scen med så många legendariska svenska band. Köper man inte biljett till detta är man inte hårdrockare.” \nJa så skriver Sveriges internationellt största flaggskepp för klassisk heavy metal\, Enforcer\, på sin facebooksida. Nu är det äntligen klart att Eskilstuna får en ny festival för old school classic heavy metal: Luciarock 2025. Idén har funnits en längre tid att skapa en metalfestival med inspiration från det klassiska ögonblicket i december 1983 från Westfalenhalle\, Dortmund. För en hel generation satte just det tv-sända programmet som samsändes i radio\, standarden för hur det skulle låta\, se ut och vara\, för killar och tjejer i hela vårt avlånga land som gillade hårdrock och hade alla posters på väggen hemma\, från tidningar som Olej och Poster. Hur många laddade inte VHS-spelaren och ett kassettband (för bättre ljud) just denna kväll\, när internet\, mobil och andra tv-kanaler och radiokanaler inte ens var påtänkta. Till det så är inspirationen såklart\,  First Wave Of Swedish Heavy Metal (FWOSHM) i allmänhet och New Wave Of British Heavy Metal (NWOBHM) i synnerhet). \nNu ska vi försöka att återskapa detta\, och nu första året satsar vi på att hylla de svenska heavy metal band som kom först och krattade manegen för de svenska hårdrock- och heavy metal band som idag dominerar scener och festivaler jorden runt. \nFestivalen äger rum i två arenor\, för kvällarna med nya tillfälliga namn. \nFredag 12 december\nStadtfalenhalle (Biff Grill & Bar) \nLineup:\n– Bullet\n– Steelwings\n– Helvetes port\n– Slingblade\n– Aerodyne\n– Bronze\n– Templar\n– Lead Breaker \nLördag 13 december\nNorthfalenhalle (Lokomotivet)\nLineup:\n– Torch\n– Mindless sinner\n– Axewitch\n– Enforcer\n– Ambush\n– 220V \nHårdrocks-dj: Toffsy. \nMat och bar (fullständiga rättigheter). \nBiljetter via Nortic (se länk). Det finns endags- och tvådagsbiljetter.
URL:https://eskilstunacentrum.se/kalender/luciarock-2025-metalfestival/
LOCATION:Lokomotivet\, Verkstadsgatan 8\, Eskilstuna\, södermanland\, 633 61
ATTACH;FMTTYPE=image/jpeg:https://eskilstunacentrum.se/wp-content/uploads/2025/11/concert-1748102.jpg
END:VEVENT
END:VCALENDAR