BEGIN:VCALENDAR
VERSION:2.0
PRODID:-//Eskilstuna Centrum - ECPv6.15.20//NONSGML v1.0//EN
CALSCALE:GREGORIAN
METHOD:PUBLISH
X-WR-CALNAME:Eskilstuna Centrum
X-ORIGINAL-URL:https://eskilstunacentrum.se
X-WR-CALDESC:Händelser för Eskilstuna Centrum
REFRESH-INTERVAL;VALUE=DURATION:PT1H
X-Robots-Tag:noindex
X-PUBLISHED-TTL:PT1H
BEGIN:VTIMEZONE
TZID:Europe/Paris
BEGIN:DAYLIGHT
TZOFFSETFROM:+0100
TZOFFSETTO:+0200
TZNAME:CEST
DTSTART:20240331T010000
END:DAYLIGHT
BEGIN:STANDARD
TZOFFSETFROM:+0200
TZOFFSETTO:+0100
TZNAME:CET
DTSTART:20241027T010000
END:STANDARD
BEGIN:DAYLIGHT
TZOFFSETFROM:+0100
TZOFFSETTO:+0200
TZNAME:CEST
DTSTART:20250330T010000
END:DAYLIGHT
BEGIN:STANDARD
TZOFFSETFROM:+0200
TZOFFSETTO:+0100
TZNAME:CET
DTSTART:20251026T010000
END:STANDARD
BEGIN:DAYLIGHT
TZOFFSETFROM:+0100
TZOFFSETTO:+0200
TZNAME:CEST
DTSTART:20260329T010000
END:DAYLIGHT
BEGIN:STANDARD
TZOFFSETFROM:+0200
TZOFFSETTO:+0100
TZNAME:CET
DTSTART:20261025T010000
END:STANDARD
END:VTIMEZONE
BEGIN:VEVENT
DTSTART;TZID=Europe/Paris:20251208T130000
DTEND;TZID=Europe/Paris:20251208T191500
DTSTAMP:20260422T132035
CREATED:20251203T153635Z
LAST-MODIFIED:20251204T132036Z
UID:4208-1765198800-1765221300@eskilstunacentrum.se
SUMMARY:Workshop: Eskilstuna i förändring
DESCRIPTION:Eskilstuna – I en värld i förändring\, dela dina visioner för vad som skapar en levande stadskärna.\nKreativ workshops för idéer och innovation \nDatum & tid: \nMåndag 8 december 2025\nVälj mellan tiderna: \n\n13:00–14:15\n18:00 – 19:15\n\nPlats: \nMälardalens universitet\, Studion\, mötesplats: Entrén vid Drottninggatan 2 \nVem kan delta: \nAlla är välkomna – studenter\, entreprenörer\, fastighetsägare\, boende\, stadsplanerare och alla som brinner för att forma Eskilstunas framtid. Ingen förkunskap krävs. \nOm workshopen: \nI en tid då städer omprövar sina roller\, bjuder vi in dig att vara del i att samskapa visioner för Eskilstunas stadskärna. Välkommen till vår interaktiva workshop som samlar studenter\, lokala röster\, privata sektor och stadsbyggnadsaktörer för att utforska hur stadens hjärta kan bli mer levande\, inkluderande och hållbar plats för alla. \nVarför detta är viktigt: \nHur kan Eskilstuna fortsätta att stärka sin dragningskraft för talang och kompetens – en plats där människor har skäl att stanna\, kan finna meningsfullt arbete\, aktiviteter\, mötesplatser\, och grogrund för nyföretagande och nätverk samt samtidigt uppleva säkerthet\, välbefinnande och hållbara lösningar? \nVilken typ av stadskärna / aktivitetet kan stödja en trygg och progressiv framtid på kort och lång sikt – en plats dit nya idéer och människor dras\, både lokalt och globalt? För att nå dit behöver vi bättre förstå vad som gör en stadskärna attraktiv och levande på flera plan för alla som bor\, arbetar eller vistas här. \nDenna workshop är en del av ett studentdrivet initiativ från Mälardalens universitets masterprogram i Innovation & Design. Studenterna utforskar tidiga faser av design och innovation. \nEn inbjudan att: \n\nDela behov och visioner (stora som små) ur olika perspektiv\nVäcka och ta vara på din kreativitet genom workshopen\nUtforska idéer om hur stadskärnan kan utvecklas. Vad gör den attraktiv\, funktionell och framtidssäker?\nBidra till ett studentdrivet utvecklingsprojekt
URL:https://eskilstunacentrum.se/kalender/workshop-eskilstuna-i-forandring/
LOCATION:södermanland
ATTACH;FMTTYPE=image/jpeg:https://eskilstunacentrum.se/wp-content/uploads/2025/12/DSC0532-1.jpg
END:VEVENT
END:VCALENDAR