BEGIN:VCALENDAR
VERSION:2.0
PRODID:-//Eskilstuna Centrum - ECPv6.15.20//NONSGML v1.0//EN
CALSCALE:GREGORIAN
METHOD:PUBLISH
X-ORIGINAL-URL:https://eskilstunacentrum.se
X-WR-CALDESC:Händelser för Eskilstuna Centrum
REFRESH-INTERVAL;VALUE=DURATION:PT1H
X-Robots-Tag:noindex
X-PUBLISHED-TTL:PT1H
BEGIN:VTIMEZONE
TZID:Europe/Paris
BEGIN:DAYLIGHT
TZOFFSETFROM:+0100
TZOFFSETTO:+0200
TZNAME:CEST
DTSTART:20240331T010000
END:DAYLIGHT
BEGIN:STANDARD
TZOFFSETFROM:+0200
TZOFFSETTO:+0100
TZNAME:CET
DTSTART:20241027T010000
END:STANDARD
BEGIN:DAYLIGHT
TZOFFSETFROM:+0100
TZOFFSETTO:+0200
TZNAME:CEST
DTSTART:20250330T010000
END:DAYLIGHT
BEGIN:STANDARD
TZOFFSETFROM:+0200
TZOFFSETTO:+0100
TZNAME:CET
DTSTART:20251026T010000
END:STANDARD
BEGIN:DAYLIGHT
TZOFFSETFROM:+0100
TZOFFSETTO:+0200
TZNAME:CEST
DTSTART:20260329T010000
END:DAYLIGHT
BEGIN:STANDARD
TZOFFSETFROM:+0200
TZOFFSETTO:+0100
TZNAME:CET
DTSTART:20261025T010000
END:STANDARD
END:VTIMEZONE
BEGIN:VEVENT
DTSTART;TZID=Europe/Paris:20251206T100000
DTEND;TZID=Europe/Paris:20251207T160000
DTSTAMP:20260422T132914
CREATED:20251121T074604Z
LAST-MODIFIED:20251121T074604Z
UID:4165-1765015200-1765123200@eskilstunacentrum.se
SUMMARY:Munktellmuseets julmarknad
DESCRIPTION:Kom in i värmen och delta på Munktellmuseets julmarknad! \nUtöver våra ordinarie utställningar kommer man kunna träffa tomten\, köpa lotter i julklapps­lotteriet eller varför inte ta en härlig julfika i vårt cafe! \nVi har öppet 10.00-16.00 lördag och söndag 6-7 december!
URL:https://eskilstunacentrum.se/kalender/munktellmuseets-julmarknad/
LOCATION:Munktellmuseet\, Munktellsgatan 3\, Eskilstuna\, södermanland\, 633 43\, Sweden
ATTACH;FMTTYPE=image/jpeg:https://eskilstunacentrum.se/wp-content/uploads/2025/11/christmas-6902576.jpg
END:VEVENT
BEGIN:VEVENT
DTSTART;TZID=Europe/Paris:20251206T140000
DTEND;TZID=Europe/Paris:20251206T160000
DTSTAMP:20260422T132914
CREATED:20251105T073718Z
LAST-MODIFIED:20251113T160835Z
UID:4112-1765029600-1765036800@eskilstunacentrum.se
SUMMARY:Tomtemors magiska jul
DESCRIPTION:Välkommen in i en värld full av magi\, värme och julstämning! Följ med Tomtemor\, Julspindeln Kristine och deras vänner i en stämningsfull och sprudlande jul­föreställning fylld av sång\, dans och oväntade möten. \nNär Tomtefar försvinner tar publiken rygg på ett äventyr där snögubbar\, jultroll\, möss och andra magiska gäster bjuder på skratt\, värme och julens glädje. En familjeföreställning som påminner oss om gemenskapens och julmagins kraft. \nManus och regi Morgan Pettersson \n#bkh25
URL:https://eskilstunacentrum.se/kalender/tomtemors-magiska-jul/
LOCATION:Contrast\, Kriebsensgatan 4\, Eskilstuna\, södermanland\, 632 18\, Sweden
CATEGORIES:Happenings
ATTACH;FMTTYPE=image/jpeg:https://eskilstunacentrum.se/wp-content/uploads/2025/11/tomtemor.jpeg
END:VEVENT
BEGIN:VEVENT
DTSTART;TZID=Europe/Paris:20251206T160000
DTEND;TZID=Europe/Paris:20251206T183000
DTSTAMP:20260422T132914
CREATED:20251105T073535Z
LAST-MODIFIED:20251113T160835Z
UID:4110-1765036800-1765045800@eskilstunacentrum.se
SUMMARY:Torshälla IBK - Trosa Edanö IBK
DESCRIPTION:Torshälla innebandyklubb arrangerar hemmamatch i division 2. Herrarna tar emot Trosa Edanö IBK. \n\nMedlemmar i Torshälla innebandy och ungdomar under 18 år gratis entré. Vuxna 50kr.
URL:https://eskilstunacentrum.se/kalender/torshalla-ibk-trosa-edano-ibk/
LOCATION:Volvo CE arena\, Arenatorget 1\, Eskilstuna\, södermanland\, 633 61
CATEGORIES:Happenings
ATTACH;FMTTYPE=image/jpeg:https://eskilstunacentrum.se/wp-content/uploads/2025/09/innebandy-1920.jpg
END:VEVENT
END:VCALENDAR