BEGIN:VCALENDAR
VERSION:2.0
PRODID:-//Eskilstuna Centrum - ECPv6.15.20//NONSGML v1.0//EN
CALSCALE:GREGORIAN
METHOD:PUBLISH
X-WR-CALNAME:Eskilstuna Centrum
X-ORIGINAL-URL:https://eskilstunacentrum.se
X-WR-CALDESC:Händelser för Eskilstuna Centrum
REFRESH-INTERVAL;VALUE=DURATION:PT1H
X-Robots-Tag:noindex
X-PUBLISHED-TTL:PT1H
BEGIN:VTIMEZONE
TZID:Europe/Paris
BEGIN:DAYLIGHT
TZOFFSETFROM:+0100
TZOFFSETTO:+0200
TZNAME:CEST
DTSTART:20240331T010000
END:DAYLIGHT
BEGIN:STANDARD
TZOFFSETFROM:+0200
TZOFFSETTO:+0100
TZNAME:CET
DTSTART:20241027T010000
END:STANDARD
BEGIN:DAYLIGHT
TZOFFSETFROM:+0100
TZOFFSETTO:+0200
TZNAME:CEST
DTSTART:20250330T010000
END:DAYLIGHT
BEGIN:STANDARD
TZOFFSETFROM:+0200
TZOFFSETTO:+0100
TZNAME:CET
DTSTART:20251026T010000
END:STANDARD
BEGIN:DAYLIGHT
TZOFFSETFROM:+0100
TZOFFSETTO:+0200
TZNAME:CEST
DTSTART:20260329T010000
END:DAYLIGHT
BEGIN:STANDARD
TZOFFSETFROM:+0200
TZOFFSETTO:+0100
TZNAME:CET
DTSTART:20261025T010000
END:STANDARD
END:VTIMEZONE
BEGIN:VEVENT
DTSTART;TZID=Europe/Paris:20251205T160000
DTEND;TZID=Europe/Paris:20251205T200000
DTSTAMP:20260422T132750
CREATED:20251121T082526Z
LAST-MODIFIED:20251121T082526Z
UID:4197-1764950400-1764964800@eskilstunacentrum.se
SUMMARY:Historisk Afterwork
DESCRIPTION:Välkomna till en alkoholfri afterwork på stadsmuseet! \nKvällen bjuder på två historiequiz där du är med och tävlar om presentkort på Handla för Eskilstuna \nPassa även på att gå tipspromenaden ”Gissa föremålet” där du får kika på roliga och kluriga föremål ur våra samlingar och möjlighet att prata med experterna själva\, våra föremålsantikvarier. \nI cafét finns alkoholfri öl\, vin\, bubbel och snacks till försäljning för den som är sugen. \nHålltider för kvällen\n\n17.00-20.00\nTipspromenad – Gissa föremålet \n17.00-17.30\nHistoriequiz 1 \n18.30-19.00\nHistoriequiz 2 (med andra frågor än quiz 1) \n19.30\nHistoriequizens prisutdelning
URL:https://eskilstunacentrum.se/kalender/historisk-afterwork/
LOCATION:Eskilstuna Stadsmuseum\, Faktorigatan 4B\, Eskilstuna\, södermanland\, 632 17\, Sweden
ATTACH;FMTTYPE=image/jpeg:https://eskilstunacentrum.se/wp-content/uploads/2025/11/middag-1.jpg
END:VEVENT
END:VCALENDAR