BEGIN:VCALENDAR
VERSION:2.0
PRODID:-//Eskilstuna Centrum - ECPv6.15.20//NONSGML v1.0//EN
CALSCALE:GREGORIAN
METHOD:PUBLISH
X-WR-CALNAME:Eskilstuna Centrum
X-ORIGINAL-URL:https://eskilstunacentrum.se
X-WR-CALDESC:Händelser för Eskilstuna Centrum
REFRESH-INTERVAL;VALUE=DURATION:PT1H
X-Robots-Tag:noindex
X-PUBLISHED-TTL:PT1H
BEGIN:VTIMEZONE
TZID:Europe/Paris
BEGIN:DAYLIGHT
TZOFFSETFROM:+0100
TZOFFSETTO:+0200
TZNAME:CEST
DTSTART:20240331T010000
END:DAYLIGHT
BEGIN:STANDARD
TZOFFSETFROM:+0200
TZOFFSETTO:+0100
TZNAME:CET
DTSTART:20241027T010000
END:STANDARD
BEGIN:DAYLIGHT
TZOFFSETFROM:+0100
TZOFFSETTO:+0200
TZNAME:CEST
DTSTART:20250330T010000
END:DAYLIGHT
BEGIN:STANDARD
TZOFFSETFROM:+0200
TZOFFSETTO:+0100
TZNAME:CET
DTSTART:20251026T010000
END:STANDARD
BEGIN:DAYLIGHT
TZOFFSETFROM:+0100
TZOFFSETTO:+0200
TZNAME:CEST
DTSTART:20260329T010000
END:DAYLIGHT
BEGIN:STANDARD
TZOFFSETFROM:+0200
TZOFFSETTO:+0100
TZNAME:CET
DTSTART:20261025T010000
END:STANDARD
END:VTIMEZONE
BEGIN:VEVENT
DTSTART;TZID=Europe/Paris:20251130T100000
DTEND;TZID=Europe/Paris:20251130T160000
DTSTAMP:20260422T145804
CREATED:20251014T082627Z
LAST-MODIFIED:20251113T160835Z
UID:3960-1764496800-1764518400@eskilstunacentrum.se
SUMMARY:Traditionell julmarknad
DESCRIPTION:Välkommen till en gammaldags julmarknad i historisk och vacker miljö! \nHär hittar du bland mycket annat hemstöpta ljus\, julprydnader och julens godsaker. Strosa runt bland 1600-talssmedjorna\, njut av dofterna och spraket från eldkorgarna och låt dig fyllas av julstämning! Förutom vackert hantverk och gott att äta bjuder marknaden också på chansen att träffa tomten\, dans runt granen\, öppet i museismedjan och julpyssel för barnen. \nVarmt välkommen till Rademachersmedjorna! \nÄr du intresserad av att sälja på marknaden? Anmälningsinformation hittar du här.
URL:https://eskilstunacentrum.se/kalender/traditionell-julmarknad/
LOCATION:Rademachersmedjorna\, Rademachergatan 44\, Eskilstuna\, södermanland\, 63217\, Sweden
CATEGORIES:Happenings
ATTACH;FMTTYPE=image/jpeg:https://eskilstunacentrum.se/wp-content/uploads/2025/10/julmarknad.jpg
END:VEVENT
BEGIN:VEVENT
DTSTART;TZID=Europe/Paris:20251130T130000
DTEND;TZID=Europe/Paris:20251130T150000
DTSTAMP:20260422T145804
CREATED:20251014T083452Z
LAST-MODIFIED:20251113T160835Z
UID:3963-1764507600-1764514800@eskilstunacentrum.se
SUMMARY:Ångmaskinskörning
DESCRIPTION:Kom och se våra ångmaskiner i arbete och rörelse! \nÅngmaskinen var viktig för utvecklingen av industri och tillverkning under 1800-talet och början av 1900-talet\, inte minst i fabriksstaden Eskilstuna. \nI Ångmaskinhallen på Eskilstuna stadsmuseum finns ångmaskiner som arbetat vid olika fabriker i Eskilstuna. Några av dem är till och med tillverkade i Eskilstuna\, av Munktells Mekaniska verkstad. \nVarmt välkomna!
URL:https://eskilstunacentrum.se/kalender/angmaskinskorning/
LOCATION:Eskilstuna Stadsmuseum\, Faktorigatan 4B\, Eskilstuna\, södermanland\, 632 17\, Sweden
CATEGORIES:Happenings
ATTACH;FMTTYPE=image/jpeg:https://eskilstunacentrum.se/wp-content/uploads/2025/10/machinery.jpg
END:VEVENT
END:VCALENDAR