BEGIN:VCALENDAR
VERSION:2.0
PRODID:-//Eskilstuna Centrum - ECPv6.15.20//NONSGML v1.0//EN
CALSCALE:GREGORIAN
METHOD:PUBLISH
X-WR-CALNAME:Eskilstuna Centrum
X-ORIGINAL-URL:https://eskilstunacentrum.se
X-WR-CALDESC:Händelser för Eskilstuna Centrum
REFRESH-INTERVAL;VALUE=DURATION:PT1H
X-Robots-Tag:noindex
X-PUBLISHED-TTL:PT1H
BEGIN:VTIMEZONE
TZID:Europe/Paris
BEGIN:DAYLIGHT
TZOFFSETFROM:+0100
TZOFFSETTO:+0200
TZNAME:CEST
DTSTART:20240331T010000
END:DAYLIGHT
BEGIN:STANDARD
TZOFFSETFROM:+0200
TZOFFSETTO:+0100
TZNAME:CET
DTSTART:20241027T010000
END:STANDARD
BEGIN:DAYLIGHT
TZOFFSETFROM:+0100
TZOFFSETTO:+0200
TZNAME:CEST
DTSTART:20250330T010000
END:DAYLIGHT
BEGIN:STANDARD
TZOFFSETFROM:+0200
TZOFFSETTO:+0100
TZNAME:CET
DTSTART:20251026T010000
END:STANDARD
BEGIN:DAYLIGHT
TZOFFSETFROM:+0100
TZOFFSETTO:+0200
TZNAME:CEST
DTSTART:20260329T010000
END:DAYLIGHT
BEGIN:STANDARD
TZOFFSETFROM:+0200
TZOFFSETTO:+0100
TZNAME:CET
DTSTART:20261025T010000
END:STANDARD
END:VTIMEZONE
BEGIN:VEVENT
DTSTART;TZID=Europe/Paris:20251129T100000
DTEND;TZID=Europe/Paris:20251129T160000
DTSTAMP:20260422T145752
CREATED:20251104T125259Z
LAST-MODIFIED:20251113T160835Z
UID:4066-1764410400-1764432000@eskilstunacentrum.se
SUMMARY:Traditionell julmarknad
DESCRIPTION:Välkommen till en gammaldags julmarknad i historisk och vacker miljö! \nHär hittar du bland mycket annat hemstöpta ljus\, julprydnader och julens godsaker. Strosa runt bland 1600-talssmedjorna\, njut av dofterna och spraket från eldkorgarna och låt dig fyllas av julstämning! Förutom vackert hantverk och gott att äta bjuder marknaden också på chansen att träffa tomten\, dans runt granen\, öppet i museismedjan och julpyssel för barnen. \nVarmt välkommen till Rademachersmedjorna! \nÄr du intresserad av att sälja på marknaden? Anmälningsinformation hittar du här.
URL:https://eskilstunacentrum.se/kalender/traditionell-julmarknad-2/
LOCATION:Rademachersmedjorna\, Rademachergatan 44\, Eskilstuna\, södermanland\, 63217\, Sweden
CATEGORIES:Happenings
ATTACH;FMTTYPE=image/jpeg:https://eskilstunacentrum.se/wp-content/uploads/2025/10/julmarknad.jpg
END:VEVENT
BEGIN:VEVENT
DTSTART;TZID=Europe/Paris:20251129T160000
DTEND;TZID=Europe/Paris:20251129T170000
DTSTAMP:20260422T145752
CREATED:20250925T120516Z
LAST-MODIFIED:20251121T074921Z
UID:3882-1764432000-1764435600@eskilstunacentrum.se
SUMMARY:Grantändning på Fristadstorget
DESCRIPTION:Grantändning på Fristadstorget lördagen den 29 november kl 16-17🎄 \n\n\nDet bjuds på bla grantändning\, öppning av isbanan (om vädret tillåter)\, musik av Triss i damer\, Mingel och fotografering med Isprinsessan och hennes långa vän\, tipspromenad både för vuxna och barn\, lyckohjul\, ansiktsmålning\, start wall of kindness\, möte med truppen som skall representera Eskilstuna i Sim SM i Munktellbadet 10-14/12.\n\nEn mysig och maxad julstart för hela familjen\, hjärtligt välkomna!\n\nFöruttom grantändning är det invigning av dels isbanan (om vädret tillåter) och Wall of Kindness-Ta ett plagg om du behöver och ge ett om du har över!\nEn Tipspromenad för både vuxna och barn kommer finnas och det bjuds på julmusik i form av Triss i damer.
URL:https://eskilstunacentrum.se/kalender/grantandning-pa-fristadstorget/
LOCATION:södermanland
CATEGORIES:Happenings
ATTACH;FMTTYPE=image/jpeg:https://eskilstunacentrum.se/wp-content/uploads/2025/09/julgran-gul-1920.jpg
END:VEVENT
BEGIN:VEVENT
DTSTART;TZID=Europe/Paris:20251129T190000
DTEND;TZID=Europe/Paris:20251129T230000
DTSTAMP:20260422T145752
CREATED:20251014T092052Z
LAST-MODIFIED:20251113T160835Z
UID:3967-1764442800-1764457200@eskilstunacentrum.se
SUMMARY:Melody Club
DESCRIPTION:Efter över ett decennium återförenas Melody Club för att ge sina fans en oförglömlig kväll! Kända för sina synth- och new wave-inspirerade pophits som Electric\, Palace Station och Covergirl\, tar de nu sin energifyllda show till Lokomotivet den 29 november. \nFörbered dig på en kväll fylld av nostalgi\, dans och en maxad synt-disco-rock-pop-explosion!
URL:https://eskilstunacentrum.se/kalender/melody-club/
LOCATION:Lokomotivet\, Verkstadsgatan 8\, Eskilstuna\, södermanland\, 633 61
CATEGORIES:Happenings
ATTACH;FMTTYPE=image/jpeg:https://eskilstunacentrum.se/wp-content/uploads/2025/10/melody-club.jpg
END:VEVENT
END:VCALENDAR