BEGIN:VCALENDAR
VERSION:2.0
PRODID:-//Eskilstuna Centrum - ECPv6.15.20//NONSGML v1.0//EN
CALSCALE:GREGORIAN
METHOD:PUBLISH
X-ORIGINAL-URL:https://eskilstunacentrum.se
X-WR-CALDESC:Händelser för Eskilstuna Centrum
REFRESH-INTERVAL;VALUE=DURATION:PT1H
X-Robots-Tag:noindex
X-PUBLISHED-TTL:PT1H
BEGIN:VTIMEZONE
TZID:Europe/Paris
BEGIN:DAYLIGHT
TZOFFSETFROM:+0100
TZOFFSETTO:+0200
TZNAME:CEST
DTSTART:20240331T010000
END:DAYLIGHT
BEGIN:STANDARD
TZOFFSETFROM:+0200
TZOFFSETTO:+0100
TZNAME:CET
DTSTART:20241027T010000
END:STANDARD
BEGIN:DAYLIGHT
TZOFFSETFROM:+0100
TZOFFSETTO:+0200
TZNAME:CEST
DTSTART:20250330T010000
END:DAYLIGHT
BEGIN:STANDARD
TZOFFSETFROM:+0200
TZOFFSETTO:+0100
TZNAME:CET
DTSTART:20251026T010000
END:STANDARD
BEGIN:DAYLIGHT
TZOFFSETFROM:+0100
TZOFFSETTO:+0200
TZNAME:CEST
DTSTART:20260329T010000
END:DAYLIGHT
BEGIN:STANDARD
TZOFFSETFROM:+0200
TZOFFSETTO:+0100
TZNAME:CET
DTSTART:20261025T010000
END:STANDARD
END:VTIMEZONE
BEGIN:VEVENT
DTSTART;TZID=Europe/Paris:20251127T190000
DTEND;TZID=Europe/Paris:20251127T204000
DTSTAMP:20260422T150241
CREATED:20251104T134118Z
LAST-MODIFIED:20251113T160835Z
UID:4099-1764270000-1764276000@eskilstunacentrum.se
SUMMARY:Måns Möller - Mitt perfekta liv
DESCRIPTION:Måns Möller\, den mångsidiga och äventyrliga komikern\, återvänder efterlängtat till rampljuset med den nya soloföreställningen ”Mitt Perfekta liv” – standup om autism\, restskatt och världens längsta 40årskris. \nFöreställningen lovar att bjuda på en unik och humoristisk inblick i Måns värld\, full av skratt och oväntade ögonblick. \nMåns har tidigare imponerat med sina fenomenala scenframträdanden i succéerna ”Sveriges Historia” och ”Världens Historia”\, men han har lika mycket erövrat svenska hjärtan med sitt brinnande engagemang för Viggo Foundation\, en organisation med målet att stötta barn med autisms rätt till rörelse och utveckling. \n”Jag hittade mitt perfekta liv genom Viggos devis – det är kul att vara glad. ’Mitt Perfekta Liv’ är en hyllning till den glädje och tillfredsställelse som kan hittas i det vardagliga” säger Måns Möller.
URL:https://eskilstunacentrum.se/kalender/mans-moller-mitt-perfekta-liv/
LOCATION:Eskilstuna Teater\, J A Selanders gata 5\, Eskilstuna\, södermanland\, 632 18
CATEGORIES:Happenings
ATTACH;FMTTYPE=image/jpeg:https://eskilstunacentrum.se/wp-content/uploads/2025/11/mans-moller-25-2.jpg
END:VEVENT
END:VCALENDAR