BEGIN:VCALENDAR
VERSION:2.0
PRODID:-//Eskilstuna Centrum - ECPv6.15.20//NONSGML v1.0//EN
CALSCALE:GREGORIAN
METHOD:PUBLISH
X-WR-CALNAME:Eskilstuna Centrum
X-ORIGINAL-URL:https://eskilstunacentrum.se
X-WR-CALDESC:Händelser för Eskilstuna Centrum
REFRESH-INTERVAL;VALUE=DURATION:PT1H
X-Robots-Tag:noindex
X-PUBLISHED-TTL:PT1H
BEGIN:VTIMEZONE
TZID:Europe/Paris
BEGIN:DAYLIGHT
TZOFFSETFROM:+0100
TZOFFSETTO:+0200
TZNAME:CEST
DTSTART:20240331T010000
END:DAYLIGHT
BEGIN:STANDARD
TZOFFSETFROM:+0200
TZOFFSETTO:+0100
TZNAME:CET
DTSTART:20241027T010000
END:STANDARD
BEGIN:DAYLIGHT
TZOFFSETFROM:+0100
TZOFFSETTO:+0200
TZNAME:CEST
DTSTART:20250330T010000
END:DAYLIGHT
BEGIN:STANDARD
TZOFFSETFROM:+0200
TZOFFSETTO:+0100
TZNAME:CET
DTSTART:20251026T010000
END:STANDARD
BEGIN:DAYLIGHT
TZOFFSETFROM:+0100
TZOFFSETTO:+0200
TZNAME:CEST
DTSTART:20260329T010000
END:DAYLIGHT
BEGIN:STANDARD
TZOFFSETFROM:+0200
TZOFFSETTO:+0100
TZNAME:CET
DTSTART:20261025T010000
END:STANDARD
END:VTIMEZONE
BEGIN:VEVENT
DTSTART;TZID=Europe/Paris:20250926T120000
DTEND;TZID=Europe/Paris:20251126T140000
DTSTAMP:20260422T145803
CREATED:20250616T114557Z
LAST-MODIFIED:20251113T160839Z
UID:3355-1758888000-1764165600@eskilstunacentrum.se
SUMMARY:
DESCRIPTION:Fredagsmys på stan! \nVarje lönefredag i Maj – September förvandlas centrum till en sprudlande mötesplats fylld med lokala erbjudanden\, musik och härlig stämning. \nMellan 12-14 blir det musikunderhållning på Kungsgatan\, Nybrogatan och Fristadstorget.
URL:https://eskilstunacentrum.se/kalender/fredagsmys/
LOCATION:södermanland
CATEGORIES:Happenings
ATTACH;FMTTYPE=image/jpeg:https://eskilstunacentrum.se/wp-content/uploads/2025/06/fredagsmys-affish-1920.jpg
END:VEVENT
BEGIN:VEVENT
DTSTART;TZID=Europe/Paris:20251101T140000
DTEND;TZID=Europe/Paris:20251101T153000
DTSTAMP:20260422T145803
CREATED:20251014T105633Z
LAST-MODIFIED:20251113T160837Z
UID:3979-1762005600-1762011000@eskilstunacentrum.se
SUMMARY:Ölprovning
DESCRIPTION:Provningen hålls av den rutinerade ölgurun Tord Nyman. \n5 olika öl provas\, både gamla och nya godingar. \nMat går att köpa före/efter provningen. Vi erbjuder 20% rabatt på maten för deltagare.
URL:https://eskilstunacentrum.se/kalender/olprovning-3/
LOCATION:Eskilstuna ölkultur\, Faktorigatan 1\, Eskilstuna\, södermanland\, 632 17\, Sweden
CATEGORIES:Happenings
ATTACH;FMTTYPE=image/jpeg:https://eskilstunacentrum.se/wp-content/uploads/2025/10/beer.jpg
END:VEVENT
BEGIN:VEVENT
DTSTART;TZID=Europe/Paris:20251101T150000
DTEND;TZID=Europe/Paris:20251101T180000
DTSTAMP:20260422T145803
CREATED:20251014T105810Z
LAST-MODIFIED:20251113T160837Z
UID:3982-1762009200-1762020000@eskilstunacentrum.se
SUMMARY:The Wedding Singer
DESCRIPTION:The Wedding Singer kommer till Eskilstuna Teater i höst och är en musikal baserad på filmen med samma namn från 1998\, då med Adam Sandler i huvudrollen! \nHandlingen utspelar sig 1985 och följer Robbie Hart\, en charmig men nedstämd bröllopssångare som blir övergiven vid altaret av sin fästmö Linda. Hans liv tar en ny vändning när han möter den godhjärtade servitrisen Julia Sullivan\, som är förlovad med den arrogante affärsmannen Glen Guglia. När Robbie och Julia blir nära vänner börjar de inse att de kanske är menade för varandra. \nMusikalen är fylld av humor\, romantik och 80-talsnostalgi\, med en energifylld poprock-soundtrack som fångar tidsperiodens känsla. \nFöreställningen är ca 3 timmar inklusive paus.
URL:https://eskilstunacentrum.se/kalender/the-wedding-singer-3/
LOCATION:Eskilstuna Teater\, J A Selanders gata 5\, Eskilstuna\, södermanland\, 632 18
CATEGORIES:Happenings
ATTACH;FMTTYPE=image/jpeg:https://eskilstunacentrum.se/wp-content/uploads/2025/10/mikrofon.jpg
END:VEVENT
BEGIN:VEVENT
DTSTART;TZID=Europe/Paris:20251101T153000
DTEND;TZID=Europe/Paris:20251101T210000
DTSTAMP:20260422T145803
CREATED:20251014T112453Z
LAST-MODIFIED:20251113T160837Z
UID:3986-1762011000-1762030800@eskilstunacentrum.se
SUMMARY:Handbollslandskamp Sverige-Spanien
DESCRIPTION:1 november väntar stormöte i Volvo CE Arena när Sverige ställs mot Spanien. Två av Europas främsta landslag gör upp i en tuff drabbning inför fullsatta läktare. \nKom och stötta blågult på plats i Eskilstuna!
URL:https://eskilstunacentrum.se/kalender/handbollslandskamp-sverige-spanien/
LOCATION:södermanland
CATEGORIES:Happenings
ATTACH;FMTTYPE=image/jpeg:https://eskilstunacentrum.se/wp-content/uploads/2025/10/handbolllandslag.jpg
END:VEVENT
END:VCALENDAR