test123BEGIN:VCALENDAR
VERSION:2.0
PRODID:-//Eskilstuna Centrum - ECPv6.15.20//NONSGML v1.0//EN
CALSCALE:GREGORIAN
METHOD:PUBLISH
X-WR-CALNAME:Eskilstuna Centrum
X-ORIGINAL-URL:https://eskilstunacentrum.se
X-WR-CALDESC:Händelser för Eskilstuna Centrum
REFRESH-INTERVAL;VALUE=DURATION:PT1H
X-Robots-Tag:noindex
X-PUBLISHED-TTL:PT1H
BEGIN:VTIMEZONE
TZID:Europe/Paris
BEGIN:DAYLIGHT
TZOFFSETFROM:+0100
TZOFFSETTO:+0200
TZNAME:CEST
DTSTART:20240331T010000
END:DAYLIGHT
BEGIN:STANDARD
TZOFFSETFROM:+0200
TZOFFSETTO:+0100
TZNAME:CET
DTSTART:20241027T010000
END:STANDARD
BEGIN:DAYLIGHT
TZOFFSETFROM:+0100
TZOFFSETTO:+0200
TZNAME:CEST
DTSTART:20250330T010000
END:DAYLIGHT
BEGIN:STANDARD
TZOFFSETFROM:+0200
TZOFFSETTO:+0100
TZNAME:CET
DTSTART:20251026T010000
END:STANDARD
BEGIN:DAYLIGHT
TZOFFSETFROM:+0100
TZOFFSETTO:+0200
TZNAME:CEST
DTSTART:20260329T010000
END:DAYLIGHT
BEGIN:STANDARD
TZOFFSETFROM:+0200
TZOFFSETTO:+0100
TZNAME:CET
DTSTART:20261025T010000
END:STANDARD
END:VTIMEZONE
BEGIN:VEVENT
DTSTART;TZID=Europe/Paris:20250829T120000
DTEND;TZID=Europe/Paris:20251029T140000
DTSTAMP:20260422T170913
CREATED:20250716T102141Z
LAST-MODIFIED:20251113T160841Z
UID:3434-1756468800-1761746400@eskilstunacentrum.se
SUMMARY:
DESCRIPTION:Fredagsmys på stan! \nVarje lönefredag i Maj – September förvandlas centrum till en sprudlande mötesplats fylld med lokala erbjudanden\, musik och härlig stämning. \nMellan 12-14 blir det musikunderhållning på Kungsgatan\, Nybrogatan och Fristadstorget.
URL:https://eskilstunacentrum.se/kalender/3434/
LOCATION:södermanland
CATEGORIES:Happenings
ATTACH;FMTTYPE=image/jpeg:https://eskilstunacentrum.se/wp-content/uploads/2025/06/fredagsmys-affish-1920.jpg
END:VEVENT
BEGIN:VEVENT
DTSTART;TZID=Europe/Paris:20250926T120000
DTEND;TZID=Europe/Paris:20251126T140000
DTSTAMP:20260422T170913
CREATED:20250616T114557Z
LAST-MODIFIED:20251113T160839Z
UID:3355-1758888000-1764165600@eskilstunacentrum.se
SUMMARY:
DESCRIPTION:Fredagsmys på stan! \nVarje lönefredag i Maj – September förvandlas centrum till en sprudlande mötesplats fylld med lokala erbjudanden\, musik och härlig stämning. \nMellan 12-14 blir det musikunderhållning på Kungsgatan\, Nybrogatan och Fristadstorget.
URL:https://eskilstunacentrum.se/kalender/fredagsmys/
LOCATION:södermanland
CATEGORIES:Happenings
ATTACH;FMTTYPE=image/jpeg:https://eskilstunacentrum.se/wp-content/uploads/2025/06/fredagsmys-affish-1920.jpg
END:VEVENT
BEGIN:VEVENT
DTSTART;TZID=Europe/Paris:20251002T080000
DTEND;TZID=Europe/Paris:20251002T170000
DTSTAMP:20260422T170913
CREATED:20251002T074638Z
LAST-MODIFIED:20251113T160839Z
UID:3906-1759392000-1759424400@eskilstunacentrum.se
SUMMARY:Världskultur på stan - tema: Orientalisk kultur
DESCRIPTION:Ett koncept som vänder sig till en bred publik. En världskulturscen\, inomhus\, ca en gång i månaden med nytt tema varje gång. Det blir möten mellan kulturella uttryck från olika kulturer. \n18 oktober – tema: Orientalisk kultur \n\nPoesi av Malkon Malkon\nOrientalisk magdans\nArabisk fika\nSafarjal band\nDans med föreningen Dimashq Alyasamen – dabke\n\n\nFika ingår i inträdet. \nInträde: 100kr (fika ingår) betalas via Swish som förköp eller vid entrén\, swishnummer: 123 053 45 11
URL:https://eskilstunacentrum.se/kalender/varldskultur-pa-stan-tema-orientalisk-kultur/
LOCATION:Contrast\, Kriebsensgatan 4\, Eskilstuna\, södermanland\, 632 18\, Sweden
CATEGORIES:Happenings
ATTACH;FMTTYPE=image/jpeg:https://eskilstunacentrum.se/wp-content/uploads/2025/10/Orientalism.jpg
END:VEVENT
BEGIN:VEVENT
DTSTART;TZID=Europe/Paris:20251002T173000
DTEND;TZID=Europe/Paris:20251002T183000
DTSTAMP:20260422T170913
CREATED:20250916T065448Z
LAST-MODIFIED:20251113T160839Z
UID:3816-1759426200-1759429800@eskilstunacentrum.se
SUMMARY:Författarbesök: Sonia Hussain
DESCRIPTION:Sonia Hussain är född i Piteå\, uppvuxen i Eskilstuna och bor numera i Berlin efter sex år i London. 2024 kom ”Borde vara tacksam” som är Sonia Husseins debutroman\, en varm och träffsäker skildring av rotlöshet\, mellanförskap och en sårig far-dotter-relation. \n—————\nEn del av Bibliotekets och Teaterns jubileumsveckor för att fira 100-årsjubileet av Eskilstunas första kulturhus.
URL:https://eskilstunacentrum.se/kalender/forfattarbesok-sonia-hussain/
LOCATION:Stadsbiblioteket\, Kriebsensgatan 4\, Eskilstuna\, södermanland\, 632 18\, Sweden
CATEGORIES:Happenings
ATTACH;FMTTYPE=image/jpeg:https://eskilstunacentrum.se/wp-content/uploads/2025/09/library-1920.jpg
END:VEVENT
END:VCALENDAR