test123BEGIN:VCALENDAR
VERSION:2.0
PRODID:-//Eskilstuna Centrum - ECPv6.15.20//NONSGML v1.0//EN
CALSCALE:GREGORIAN
METHOD:PUBLISH
X-ORIGINAL-URL:https://eskilstunacentrum.se
X-WR-CALDESC:Händelser för Eskilstuna Centrum
REFRESH-INTERVAL;VALUE=DURATION:PT1H
X-Robots-Tag:noindex
X-PUBLISHED-TTL:PT1H
BEGIN:VTIMEZONE
TZID:Europe/Paris
BEGIN:DAYLIGHT
TZOFFSETFROM:+0100
TZOFFSETTO:+0200
TZNAME:CEST
DTSTART:20240331T010000
END:DAYLIGHT
BEGIN:STANDARD
TZOFFSETFROM:+0200
TZOFFSETTO:+0100
TZNAME:CET
DTSTART:20241027T010000
END:STANDARD
BEGIN:DAYLIGHT
TZOFFSETFROM:+0100
TZOFFSETTO:+0200
TZNAME:CEST
DTSTART:20250330T010000
END:DAYLIGHT
BEGIN:STANDARD
TZOFFSETFROM:+0200
TZOFFSETTO:+0100
TZNAME:CET
DTSTART:20251026T010000
END:STANDARD
BEGIN:DAYLIGHT
TZOFFSETFROM:+0100
TZOFFSETTO:+0200
TZNAME:CEST
DTSTART:20260329T010000
END:DAYLIGHT
BEGIN:STANDARD
TZOFFSETFROM:+0200
TZOFFSETTO:+0100
TZNAME:CET
DTSTART:20261025T010000
END:STANDARD
END:VTIMEZONE
BEGIN:VEVENT
DTSTART;TZID=Europe/Paris:20250829T120000
DTEND;TZID=Europe/Paris:20251029T140000
DTSTAMP:20260422T192056
CREATED:20250716T102141Z
LAST-MODIFIED:20251113T160841Z
UID:3434-1756468800-1761746400@eskilstunacentrum.se
SUMMARY:
DESCRIPTION:Fredagsmys på stan! \nVarje lönefredag i Maj – September förvandlas centrum till en sprudlande mötesplats fylld med lokala erbjudanden\, musik och härlig stämning. \nMellan 12-14 blir det musikunderhållning på Kungsgatan\, Nybrogatan och Fristadstorget.
URL:https://eskilstunacentrum.se/kalender/3434/
LOCATION:södermanland
CATEGORIES:Happenings
ATTACH;FMTTYPE=image/jpeg:https://eskilstunacentrum.se/wp-content/uploads/2025/06/fredagsmys-affish-1920.jpg
END:VEVENT
BEGIN:VEVENT
DTSTART;VALUE=DATE:20250925
DTEND;VALUE=DATE:20250928
DTSTAMP:20260422T192056
CREATED:20250904T064845Z
LAST-MODIFIED:20251113T160839Z
UID:3770-1758758400-1759017599@eskilstunacentrum.se
SUMMARY:Kunskapsfesten
DESCRIPTION:25-27 september 2025 arrangeras Kunskapsfesten för femte gången. \n\n\n\n\nKunskapsfesten är en mötesplats för att lära\, upptäcka och ha kul tillsammans. Det är dagar med inspirerande före­läsningar\, forskar­möten\, roliga experiment\, afterworks och aktiviteter för både barn och vuxna. Allt är gratis – och alla är välkomna. \nFredagen är en del av vetenskapsfestivalen ForskarFredag. \nKunskapsfesten arrangeras av Eskilstuna kommun i nära samverkan med Mälardalens universitet. Volvo CE\, Sparbanken Rekarne\, Destination Eskilstuna (DEAB) och Region Sörmland Kultur är partners.
URL:https://eskilstunacentrum.se/kalender/kunskapsfesten/
LOCATION:södermanland
CATEGORIES:Happenings
ATTACH;FMTTYPE=image/jpeg:https://eskilstunacentrum.se/wp-content/uploads/2025/09/glodlampa-1920.jpg
END:VEVENT
BEGIN:VEVENT
DTSTART;TZID=Europe/Paris:20250926T120000
DTEND;TZID=Europe/Paris:20251126T140000
DTSTAMP:20260422T192056
CREATED:20250616T114557Z
LAST-MODIFIED:20251113T160839Z
UID:3355-1758888000-1764165600@eskilstunacentrum.se
SUMMARY:
DESCRIPTION:Fredagsmys på stan! \nVarje lönefredag i Maj – September förvandlas centrum till en sprudlande mötesplats fylld med lokala erbjudanden\, musik och härlig stämning. \nMellan 12-14 blir det musikunderhållning på Kungsgatan\, Nybrogatan och Fristadstorget.
URL:https://eskilstunacentrum.se/kalender/fredagsmys/
LOCATION:södermanland
CATEGORIES:Happenings
ATTACH;FMTTYPE=image/jpeg:https://eskilstunacentrum.se/wp-content/uploads/2025/06/fredagsmys-affish-1920.jpg
END:VEVENT
BEGIN:VEVENT
DTSTART;TZID=Europe/Paris:20250927T120000
DTEND;TZID=Europe/Paris:20250927T160000
DTSTAMP:20260422T192056
CREATED:20250911T092813Z
LAST-MODIFIED:20251113T160839Z
UID:3813-1758974400-1758988800@eskilstunacentrum.se
SUMMARY:Öppet i konstverkstan
DESCRIPTION:Skapande på egen hand\, utifrån ett tema som finns förberett. \nDrop in för besökare i alla åldrar. Barn i vuxens sällskap. För att besöka konstverkstan själv behöver du ha fyllt 12 år.
URL:https://eskilstunacentrum.se/kalender/oppet-i-konstverkstan/
LOCATION:Eskilstuna konstmuseum\, Portgatan 2\, Eskilstuna\, södermanland\, 633 61\, Sweden
CATEGORIES:Happenings
ATTACH;FMTTYPE=image/jpeg:https://eskilstunacentrum.se/wp-content/uploads/2025/09/oppet-Konstverkstad.jpg
END:VEVENT
BEGIN:VEVENT
DTSTART;TZID=Europe/Paris:20250927T140000
DTEND;TZID=Europe/Paris:20250927T153000
DTSTAMP:20260422T192056
CREATED:20250902T154157Z
LAST-MODIFIED:20251113T160839Z
UID:3701-1758981600-1758987000@eskilstunacentrum.se
SUMMARY:Ölprovning
DESCRIPTION:Provningen hålls av den rutinerade ölgurun Tord Nyman. \n5 stycken öl provas\, både gamla och nya godingar. \nMat går att köpa före och efter provningen. Vi erbjuder 20% rabatt på maten för deltagare. \nVi ses på Eskilstuna Ölkultur\, Faktorigatan 1. Dörrarna öppnar 13.00.
URL:https://eskilstunacentrum.se/kalender/olprovning/
LOCATION:södermanland
CATEGORIES:Happenings
ATTACH;FMTTYPE=image/jpeg:https://eskilstunacentrum.se/wp-content/uploads/2025/09/beer-1920.jpg
END:VEVENT
BEGIN:VEVENT
DTSTART;TZID=Europe/Paris:20250927T183000
DTEND;TZID=Europe/Paris:20250927T223000
DTSTAMP:20260422T192056
CREATED:20250902T155001Z
LAST-MODIFIED:20251113T160839Z
UID:3704-1758997800-1759012200@eskilstunacentrum.se
SUMMARY:The Crown + This Gift Is A Curse
DESCRIPTION:Det blir en tung och brutal metalkväll på Lokomotivet när The Crown och This Gift is A Curse intar scenen! Förbered dig på en explosiv blandning av death metal och sludge/blackened hardcore när dessa två akter bjuder på en intensiv upplevelse fylld av rå energi och kompromisslös tyngd. Missa inte denna kväll där mörker och tyngd möts i en ljudvägg av ren aggressivitet! \nSupport: Sarcator \nÅldersgräns 18 år (15 år i målsmans sällskap)
URL:https://eskilstunacentrum.se/kalender/the-crown-this-gift-is-a-curse/
LOCATION:Lokomotivet\, Verkstadsgatan 8\, Eskilstuna\, södermanland\, 633 61
CATEGORIES:Happenings
ATTACH;FMTTYPE=image/jpeg:https://eskilstunacentrum.se/wp-content/uploads/2025/09/The-Crown-This-Gift-Is-A-Curse-1920.jpg
END:VEVENT
END:VCALENDAR