test123BEGIN:VCALENDAR
VERSION:2.0
PRODID:-//Eskilstuna Centrum - ECPv6.15.20//NONSGML v1.0//EN
CALSCALE:GREGORIAN
METHOD:PUBLISH
X-WR-CALNAME:Eskilstuna Centrum
X-ORIGINAL-URL:https://eskilstunacentrum.se
X-WR-CALDESC:Händelser för Eskilstuna Centrum
REFRESH-INTERVAL;VALUE=DURATION:PT1H
X-Robots-Tag:noindex
X-PUBLISHED-TTL:PT1H
BEGIN:VTIMEZONE
TZID:Europe/Paris
BEGIN:DAYLIGHT
TZOFFSETFROM:+0100
TZOFFSETTO:+0200
TZNAME:CEST
DTSTART:20240331T010000
END:DAYLIGHT
BEGIN:STANDARD
TZOFFSETFROM:+0200
TZOFFSETTO:+0100
TZNAME:CET
DTSTART:20241027T010000
END:STANDARD
BEGIN:DAYLIGHT
TZOFFSETFROM:+0100
TZOFFSETTO:+0200
TZNAME:CEST
DTSTART:20250330T010000
END:DAYLIGHT
BEGIN:STANDARD
TZOFFSETFROM:+0200
TZOFFSETTO:+0100
TZNAME:CET
DTSTART:20251026T010000
END:STANDARD
BEGIN:DAYLIGHT
TZOFFSETFROM:+0100
TZOFFSETTO:+0200
TZNAME:CEST
DTSTART:20260329T010000
END:DAYLIGHT
BEGIN:STANDARD
TZOFFSETFROM:+0200
TZOFFSETTO:+0100
TZNAME:CET
DTSTART:20261025T010000
END:STANDARD
END:VTIMEZONE
BEGIN:VEVENT
DTSTART;TZID=Europe/Paris:20250725T120000
DTEND;TZID=Europe/Paris:20250924T140000
DTSTAMP:20260422T190230
CREATED:20250716T101654Z
LAST-MODIFIED:20251113T160842Z
UID:3429-1753444800-1758722400@eskilstunacentrum.se
SUMMARY:
DESCRIPTION:Fredagsmys på stan! \nVarje lönefredag i Maj – September förvandlas centrum till en sprudlande mötesplats fylld med lokala erbjudanden\, musik och härlig stämning. \nMellan 12-14 blir det musikunderhållning på Kungsgatan\, Nybrogatan och Fristadstorget.
URL:https://eskilstunacentrum.se/kalender/fredagsmys-2/
LOCATION:södermanland
CATEGORIES:Happenings
ATTACH;FMTTYPE=image/jpeg:https://eskilstunacentrum.se/wp-content/uploads/2025/06/fredagsmys-affish-1920.jpg
END:VEVENT
BEGIN:VEVENT
DTSTART;TZID=Europe/Paris:20250829T120000
DTEND;TZID=Europe/Paris:20251029T140000
DTSTAMP:20260422T190230
CREATED:20250716T102141Z
LAST-MODIFIED:20251113T160841Z
UID:3434-1756468800-1761746400@eskilstunacentrum.se
SUMMARY:
DESCRIPTION:Fredagsmys på stan! \nVarje lönefredag i Maj – September förvandlas centrum till en sprudlande mötesplats fylld med lokala erbjudanden\, musik och härlig stämning. \nMellan 12-14 blir det musikunderhållning på Kungsgatan\, Nybrogatan och Fristadstorget.
URL:https://eskilstunacentrum.se/kalender/3434/
LOCATION:södermanland
CATEGORIES:Happenings
ATTACH;FMTTYPE=image/jpeg:https://eskilstunacentrum.se/wp-content/uploads/2025/06/fredagsmys-affish-1920.jpg
END:VEVENT
BEGIN:VEVENT
DTSTART;TZID=Europe/Paris:20250920T100000
DTEND;TZID=Europe/Paris:20250920T130000
DTSTAMP:20260422T190230
CREATED:20250902T145539Z
LAST-MODIFIED:20251113T160840Z
UID:3683-1758362400-1758373200@eskilstunacentrum.se
SUMMARY:Hela Eskilstuna plockar skräp
DESCRIPTION:Höstens stora städdag är lördag 20 september! Då ses vi i stadsparken för eventet ’Hela Eskilstuna plockar skräp’. Det blir tipspromenad\, sopbils­uppvisning för barnen och så fiskar vi med magneter. Blir årets fångst ”värre” än förra årets då vi bland allt annat bråte hittade ett kassaskåp!? \nSyftet med att arrangera ”Hela Eskilstuna plockar skräp’ är att engagera och inspirera fler till att ta hand om vår kommun och natur. Eventet är en del av den nationella kampanjen som Håll Sverige rent står bakom. Gå gärna med i rörelsen mot skräp på deras webbplats. \nFler programpunkter tillkommer löpande fram till eventet. \nVi ses i parken!
URL:https://eskilstunacentrum.se/kalender/hela-eskilstuna-plockar-skrap/
LOCATION:Stadsparken\, Strandgatan 20\, Eskilstuna\, södermanland\, 633 43\, Sweden
CATEGORIES:Happenings
ATTACH;FMTTYPE=image/jpeg:https://eskilstunacentrum.se/wp-content/uploads/2025/09/trash-1920.jpg
END:VEVENT
BEGIN:VEVENT
DTSTART;TZID=Europe/Paris:20250920T100000
DTEND;TZID=Europe/Paris:20250920T160000
DTSTAMP:20260422T190230
CREATED:20250902T124151Z
LAST-MODIFIED:20251113T160840Z
UID:3680-1758362400-1758384000@eskilstunacentrum.se
SUMMARY:COOP Eskilstuna Runt
DESCRIPTION:För fjärde året arrangeras COOP Eskilstuna runt. Du springer eller går banan runt den vackra ån. Distanserna är 5 eller 10 km. \nVi erbjuder också Knattelopp upp till 13 år. \nNytt för i år är att vi har en Enkelslinga på 800m. Den är för personer med någon form av funktionsnedsättning. \n—————— \nVi öppnar området i Stadsparken redan 10.00. Det finns ansiktsmålning för barnen\, hinderbana\, fika\, med mera. Första loppet går igång kl. 11.00. Alla är varmt välkomna till en rolig dag i Stadsparken! \nEnkelslingan \n\n11.00 – 800m för dig med någon form av funktions­nedsättning.\n\nKnatteloppen startar \n\n11.45 (0-7 år\, 500m)\n12.00 (8-13 år\, 1000m).\n\n5 och 10 km  \n\n13.00 – du väljer själv om du vill ha med eller utan tidtagning.
URL:https://eskilstunacentrum.se/kalender/coop-eskilstuna-runt/
LOCATION:Stadsparken\, Strandgatan 20\, Eskilstuna\, södermanland\, 633 43\, Sweden
CATEGORIES:Happenings
ATTACH;FMTTYPE=image/jpeg:https://eskilstunacentrum.se/wp-content/uploads/2025/09/coop-rutt-1920.jpg
END:VEVENT
BEGIN:VEVENT
DTSTART;TZID=Europe/Paris:20250920T190000
DTEND;TZID=Europe/Paris:20250920T200000
DTSTAMP:20260422T190230
CREATED:20250902T152219Z
LAST-MODIFIED:20251113T160840Z
UID:3687-1758394800-1758398400@eskilstunacentrum.se
SUMMARY:Cirkus Cirkör: Knitting Peace
DESCRIPTION:Scenkonst Sörmland välkomnar Cirkus Cirkör tillbaka till Eskilstuna med föreställningen Knitting Peace. Fred och handarbete möts i en magiskt vacker värld av rep\, garn och trassel. \nForskare menar att vår längtan efter något bättre är det som håller oss vid liv. Det värsta som kan hända oss är att uppnå våra mål utan att hitta något nytt att sträva efter. Cirkusartister jobbar ofta för att uppnå det omöjliga. Är strävan efter en omöjlighet vägen till lycka? Att sträva efter fred på jorden\, är det att sträva efter det omöjliga? \nKan själva strävan förändra något?\nGår det att sticka fred? \nI den här poetiska föreställningen fylld av garn\, trassel\, linor och trådar vävs frågeställningar om strävan och stickning samman. Fem cirkusartister skapar en magiskt vacker värld av rep och garn\, dit publiken bjuds in för att omslutas av gåtfull musik\, känslig poesi och en kraftfull strävan efter meningsfullhet. \nKan själva strävan göra skillnad?\nGår det att sticka fred? \nKnitting Peace har spelats över 400 gånger på tre kontinenter\, i 17 länder och 75 städer sedan sin premiär 2013. Dess kärntema – vår strävan efter fred i världen – är fortfarande lika aktuellt\, så vi kan inte sluta nu… \nOm föreställningen\nLängd 60 minuter. Knitting Peace är skapad med en vuxen publik i åtanke. Vi vet dock att många barn kan uppskatta föreställningen ändå. Du känner ditt barn bäst! Rekommenderas från 10 år. \nFöreställningen är en så kallad ”site specific” av originalverket regisserat av Tilde Björfors. Det vill säga\, utformad efter lokalens unika förutsättningar och skiljer sig från den version som vanligtvis framförs på scen. \nBiljettinformation\nFöreställningarna i Eskilstuna den 20-21 september är ett samarbete mellan Scenkonst Sörmland\, Eskilstuna kommun samt Eskilstuna Riksteaterförening. \nFoto: Joana Magalhaes \n#dch25
URL:https://eskilstunacentrum.se/kalender/cirkus-cirkor-knitting-peace/
LOCATION:Lokomotivet\, Verkstadsgatan 8\, Eskilstuna\, södermanland\, 633 61
CATEGORIES:Happenings
ATTACH;FMTTYPE=image/jpeg:https://eskilstunacentrum.se/wp-content/uploads/2025/09/circus-cirkor-1920.jpg
END:VEVENT
END:VCALENDAR