test123BEGIN:VCALENDAR
VERSION:2.0
PRODID:-//Eskilstuna Centrum - ECPv6.15.20//NONSGML v1.0//EN
CALSCALE:GREGORIAN
METHOD:PUBLISH
X-WR-CALNAME:Eskilstuna Centrum
X-ORIGINAL-URL:https://eskilstunacentrum.se
X-WR-CALDESC:Händelser för Eskilstuna Centrum
REFRESH-INTERVAL;VALUE=DURATION:PT1H
X-Robots-Tag:noindex
X-PUBLISHED-TTL:PT1H
BEGIN:VTIMEZONE
TZID:Europe/Paris
BEGIN:DAYLIGHT
TZOFFSETFROM:+0100
TZOFFSETTO:+0200
TZNAME:CEST
DTSTART:20240331T010000
END:DAYLIGHT
BEGIN:STANDARD
TZOFFSETFROM:+0200
TZOFFSETTO:+0100
TZNAME:CET
DTSTART:20241027T010000
END:STANDARD
BEGIN:DAYLIGHT
TZOFFSETFROM:+0100
TZOFFSETTO:+0200
TZNAME:CEST
DTSTART:20250330T010000
END:DAYLIGHT
BEGIN:STANDARD
TZOFFSETFROM:+0200
TZOFFSETTO:+0100
TZNAME:CET
DTSTART:20251026T010000
END:STANDARD
BEGIN:DAYLIGHT
TZOFFSETFROM:+0100
TZOFFSETTO:+0200
TZNAME:CEST
DTSTART:20260329T010000
END:DAYLIGHT
BEGIN:STANDARD
TZOFFSETFROM:+0200
TZOFFSETTO:+0100
TZNAME:CET
DTSTART:20261025T010000
END:STANDARD
END:VTIMEZONE
BEGIN:VEVENT
DTSTART;TZID=Europe/Paris:20250725T120000
DTEND;TZID=Europe/Paris:20250924T140000
DTSTAMP:20260422T190321
CREATED:20250716T101654Z
LAST-MODIFIED:20251113T160842Z
UID:3429-1753444800-1758722400@eskilstunacentrum.se
SUMMARY:
DESCRIPTION:Fredagsmys på stan! \nVarje lönefredag i Maj – September förvandlas centrum till en sprudlande mötesplats fylld med lokala erbjudanden\, musik och härlig stämning. \nMellan 12-14 blir det musikunderhållning på Kungsgatan\, Nybrogatan och Fristadstorget.
URL:https://eskilstunacentrum.se/kalender/fredagsmys-2/
LOCATION:södermanland
CATEGORIES:Happenings
ATTACH;FMTTYPE=image/jpeg:https://eskilstunacentrum.se/wp-content/uploads/2025/06/fredagsmys-affish-1920.jpg
END:VEVENT
BEGIN:VEVENT
DTSTART;TZID=Europe/Paris:20250829T120000
DTEND;TZID=Europe/Paris:20251029T140000
DTSTAMP:20260422T190321
CREATED:20250716T102141Z
LAST-MODIFIED:20251113T160841Z
UID:3434-1756468800-1761746400@eskilstunacentrum.se
SUMMARY:
DESCRIPTION:Fredagsmys på stan! \nVarje lönefredag i Maj – September förvandlas centrum till en sprudlande mötesplats fylld med lokala erbjudanden\, musik och härlig stämning. \nMellan 12-14 blir det musikunderhållning på Kungsgatan\, Nybrogatan och Fristadstorget.
URL:https://eskilstunacentrum.se/kalender/3434/
LOCATION:södermanland
CATEGORIES:Happenings
ATTACH;FMTTYPE=image/jpeg:https://eskilstunacentrum.se/wp-content/uploads/2025/06/fredagsmys-affish-1920.jpg
END:VEVENT
BEGIN:VEVENT
DTSTART;TZID=Europe/Paris:20250908T170000
DTEND;TZID=Europe/Paris:20250908T171000
DTSTAMP:20260422T190321
CREATED:20250807T093459Z
LAST-MODIFIED:20251113T160840Z
UID:3522-1757350800-1757351400@eskilstunacentrum.se
SUMMARY:Specialomloppet
DESCRIPTION:Specialomloppet är loppet för alla fantastiska funkisar – med eventuella ledsagare. \nSträckan är 400 meter. \nTröjor och medaljer till alla som deltar. \nSpecialomloppet arrangeras i samband med Blodomloppet. \nDu anmäler dig till de olika loppen via den här länken
URL:https://eskilstunacentrum.se/kalender/specialomloppet/
LOCATION:södermanland
CATEGORIES:Happenings
ATTACH;FMTTYPE=image/jpeg:https://eskilstunacentrum.se/wp-content/uploads/2025/08/specialomloppet-1920.jpg
END:VEVENT
BEGIN:VEVENT
DTSTART;TZID=Europe/Paris:20250908T171000
DTEND;TZID=Europe/Paris:20250908T173000
DTSTAMP:20260422T190321
CREATED:20250807T093121Z
LAST-MODIFIED:20251113T160840Z
UID:3519-1757351400-1757352600@eskilstunacentrum.se
SUMMARY:Lilla Blodomloppet
DESCRIPTION:En lättsam och rolig utmaning för barn upp till 12 år som gillar att springa\, skutta eller gå. \nStart: 17.10 i stadsparken\, Esklilstuna.\nSträckan är 800 meter. \nTröjor och medaljer till alla som deltar. \nLilla Blodomloppet arrangeras i samband med Blodomloppet. \nDu anmäler dig till de olika loppen via den här länken.
URL:https://eskilstunacentrum.se/kalender/lilla-blodomloppet/
LOCATION:Stadsparken\, Strandgatan 20\, Eskilstuna\, södermanland\, 633 43\, Sweden
CATEGORIES:Happenings
ATTACH;FMTTYPE=image/jpeg:https://eskilstunacentrum.se/wp-content/uploads/2025/08/lilla-blodomloppet-1920.jpg
END:VEVENT
BEGIN:VEVENT
DTSTART;TZID=Europe/Paris:20250908T180000
DTEND;TZID=Europe/Paris:20250908T200000
DTSTAMP:20260422T190322
CREATED:20250807T092733Z
LAST-MODIFIED:20251113T160840Z
UID:3514-1757354400-1757361600@eskilstunacentrum.se
SUMMARY:Blodomloppet Eskilstuna
DESCRIPTION:Varmt välkomna till Blodomloppet i Eskilstuna! Blodomloppet är ett motionslopp som äger rum runtom i nästan hela Sverige\, med syftet att uppmärksamma den livsviktiga blodgivningen. \nPromenera\, jogga eller spring 5 eller 10 kilometer tillsammans med dina arbetskamrater och vänner. Avsluta sedan med en skön picknick efter loppet. \nBanorna på 5 och 10 km kommer att vara kontrollmätta. Det är en snabb\, flack bana med mycket liten höjdskillnad. \nDu anmäler dig till de olika loppen via den här länken. Anmälan görs individuellt eller i lag. \nEtt lag kan bestå av max 5 deltagare. Lagdeltagare inom samma lag kan delta i olika distanser/klasser.\nOm du vill anmäla många personer samtidigt\, ladda ner excel-mallen som du hittar på anmälningssidan. \nI Eskilstuna arrangeras också: \n\nLilla Blodomloppet – för barn upp till 12 år.\nSpecialomloppet – för funkisar med eventuella ledsagare.\n\nMer information om bansträckning\, evenemangs­området\, med mera på Blodomloppets hemsida. \nBlodgivargåva\nBlodgivargåvan delas ut vid Unilabs-Blodcentralens tält på evenemangsområdet i Stadsparken på tävlingsdagen.
URL:https://eskilstunacentrum.se/kalender/blodomloppet-eskilstuna/
LOCATION:Stadsparken\, Strandgatan 20\, Eskilstuna\, södermanland\, 633 43\, Sweden
CATEGORIES:Happenings
ATTACH;FMTTYPE=image/jpeg:https://eskilstunacentrum.se/wp-content/uploads/2025/08/blodomloppet-1920.jpg
END:VEVENT
END:VCALENDAR