test123BEGIN:VCALENDAR
VERSION:2.0
PRODID:-//Eskilstuna Centrum - ECPv6.15.20//NONSGML v1.0//EN
CALSCALE:GREGORIAN
METHOD:PUBLISH
X-ORIGINAL-URL:https://eskilstunacentrum.se
X-WR-CALDESC:Händelser för Eskilstuna Centrum
REFRESH-INTERVAL;VALUE=DURATION:PT1H
X-Robots-Tag:noindex
X-PUBLISHED-TTL:PT1H
BEGIN:VTIMEZONE
TZID:Europe/Paris
BEGIN:DAYLIGHT
TZOFFSETFROM:+0100
TZOFFSETTO:+0200
TZNAME:CEST
DTSTART:20240331T010000
END:DAYLIGHT
BEGIN:STANDARD
TZOFFSETFROM:+0200
TZOFFSETTO:+0100
TZNAME:CET
DTSTART:20241027T010000
END:STANDARD
BEGIN:DAYLIGHT
TZOFFSETFROM:+0100
TZOFFSETTO:+0200
TZNAME:CEST
DTSTART:20250330T010000
END:DAYLIGHT
BEGIN:STANDARD
TZOFFSETFROM:+0200
TZOFFSETTO:+0100
TZNAME:CET
DTSTART:20251026T010000
END:STANDARD
BEGIN:DAYLIGHT
TZOFFSETFROM:+0100
TZOFFSETTO:+0200
TZNAME:CEST
DTSTART:20260329T010000
END:DAYLIGHT
BEGIN:STANDARD
TZOFFSETFROM:+0200
TZOFFSETTO:+0100
TZNAME:CET
DTSTART:20261025T010000
END:STANDARD
END:VTIMEZONE
BEGIN:VEVENT
DTSTART;TZID=Europe/Paris:20250725T120000
DTEND;TZID=Europe/Paris:20250924T140000
DTSTAMP:20260422T190653
CREATED:20250716T101654Z
LAST-MODIFIED:20251113T160842Z
UID:3429-1753444800-1758722400@eskilstunacentrum.se
SUMMARY:
DESCRIPTION:Fredagsmys på stan! \nVarje lönefredag i Maj – September förvandlas centrum till en sprudlande mötesplats fylld med lokala erbjudanden\, musik och härlig stämning. \nMellan 12-14 blir det musikunderhållning på Kungsgatan\, Nybrogatan och Fristadstorget.
URL:https://eskilstunacentrum.se/kalender/fredagsmys-2/
LOCATION:södermanland
CATEGORIES:Happenings
ATTACH;FMTTYPE=image/jpeg:https://eskilstunacentrum.se/wp-content/uploads/2025/06/fredagsmys-affish-1920.jpg
END:VEVENT
BEGIN:VEVENT
DTSTART;TZID=Europe/Paris:20250829T120000
DTEND;TZID=Europe/Paris:20251029T140000
DTSTAMP:20260422T190653
CREATED:20250716T102141Z
LAST-MODIFIED:20251113T160841Z
UID:3434-1756468800-1761746400@eskilstunacentrum.se
SUMMARY:
DESCRIPTION:Fredagsmys på stan! \nVarje lönefredag i Maj – September förvandlas centrum till en sprudlande mötesplats fylld med lokala erbjudanden\, musik och härlig stämning. \nMellan 12-14 blir det musikunderhållning på Kungsgatan\, Nybrogatan och Fristadstorget.
URL:https://eskilstunacentrum.se/kalender/3434/
LOCATION:södermanland
CATEGORIES:Happenings
ATTACH;FMTTYPE=image/jpeg:https://eskilstunacentrum.se/wp-content/uploads/2025/06/fredagsmys-affish-1920.jpg
END:VEVENT
BEGIN:VEVENT
DTSTART;TZID=Europe/Paris:20250905T190000
DTEND;TZID=Europe/Paris:20250905T230000
DTSTAMP:20260422T190653
CREATED:20250812T070719Z
LAST-MODIFIED:20251113T160840Z
UID:3547-1757098800-1757113200@eskilstunacentrum.se
SUMMARY:Dansfesten - för dig som gillar att dansa
DESCRIPTION:Mer Dans åt Folket bjuder in till en kväll där Eskilstunas dansare möts över stilar och nivåer. Streetdance\, bugg\, samtida dans\, folkdans eller linedance – allt ryms i samma rum med liveband\, DJ och korta prova-på-pass mellan uppträdandena. Kom för att testa en ny stil eller bara röra dig till musiken\, ensam eller tillsammans. \nVälkommen till en danskväll som öppnar golvet för både nybörjare och erfarna dansare – en kväll av gemensam dansglädje! \nMed stöd av Scener och Evenemang Eskilstuna kommun\, Sparbanksstiftelsen Rekarne\, med flera.
URL:https://eskilstunacentrum.se/kalender/dansfesten-for-dig-som-gillar-att-dansa/
LOCATION:Lokomotivet\, Verkstadsgatan 8\, Eskilstuna\, södermanland\, 633 61
CATEGORIES:Happenings
ATTACH;FMTTYPE=image/jpeg:https://eskilstunacentrum.se/wp-content/uploads/2025/08/dansasvartvitt-1920-x-1080.jpg
END:VEVENT
END:VCALENDAR