test123BEGIN:VCALENDAR
VERSION:2.0
PRODID:-//Eskilstuna Centrum - ECPv6.15.20//NONSGML v1.0//EN
CALSCALE:GREGORIAN
METHOD:PUBLISH
X-ORIGINAL-URL:https://eskilstunacentrum.se
X-WR-CALDESC:Händelser för Eskilstuna Centrum
REFRESH-INTERVAL;VALUE=DURATION:PT1H
X-Robots-Tag:noindex
X-PUBLISHED-TTL:PT1H
BEGIN:VTIMEZONE
TZID:Europe/Paris
BEGIN:DAYLIGHT
TZOFFSETFROM:+0100
TZOFFSETTO:+0200
TZNAME:CEST
DTSTART:20240331T010000
END:DAYLIGHT
BEGIN:STANDARD
TZOFFSETFROM:+0200
TZOFFSETTO:+0100
TZNAME:CET
DTSTART:20241027T010000
END:STANDARD
BEGIN:DAYLIGHT
TZOFFSETFROM:+0100
TZOFFSETTO:+0200
TZNAME:CEST
DTSTART:20250330T010000
END:DAYLIGHT
BEGIN:STANDARD
TZOFFSETFROM:+0200
TZOFFSETTO:+0100
TZNAME:CET
DTSTART:20251026T010000
END:STANDARD
BEGIN:DAYLIGHT
TZOFFSETFROM:+0100
TZOFFSETTO:+0200
TZNAME:CEST
DTSTART:20260329T010000
END:DAYLIGHT
BEGIN:STANDARD
TZOFFSETFROM:+0200
TZOFFSETTO:+0100
TZNAME:CET
DTSTART:20261025T010000
END:STANDARD
END:VTIMEZONE
BEGIN:VEVENT
DTSTART;TZID=Europe/Paris:20250628T150000
DTEND;TZID=Europe/Paris:20250713T160000
DTSTAMP:20260422T223656
CREATED:20250424T141937Z
LAST-MODIFIED:20251113T160843Z
UID:3149-1751122800-1752422400@eskilstunacentrum.se
SUMMARY:Egil Skallagrimsson
DESCRIPTION:Egil Skallagrimsson var en isländsk skald och krigare. I denna pjäs\, baserad på A.U. Bååths svenska översättning\, följer vi Egil från vild barndom till ung vuxen. Efter ett kallblodigt mord flyr han från sin far och följer med sin bror till Norges kung. Under en fest gör han sig ovän med kungaparet. Drottningen\, som har en gammal konflikt med Egils familj\, ser sin chans att hämnas – men misslyckas. Egil överlever och svär att utkräva sin egen hämnd. Snart möts de igen\, men inte som han väntat sig… Pjäsen är en annorlunda tolkning av den uråldriga sagan\, trogen de händelser man tror ägt rum. Den innehåller också bevarade skalder\, som Þat mælti mín móðir – känd idag som My mother told me. En saga om hämnd\, ilska och beslutsamhet. Strid\, fräcka verser och storslagna fester. Från en tid där sagor var verklighet. \n28-29 juni 15.00-17.00 \n5-6 juli 15.00-17.00 \n12 juli 15.00-17.00 \n13 juli 14.00-16.00 \nSörmlandsgården\, Eskilstuna
URL:https://eskilstunacentrum.se/kalender/egil-skallagrimsson/
LOCATION:södermanland
CATEGORIES:Happenings
ATTACH;FMTTYPE=image/jpeg:https://eskilstunacentrum.se/wp-content/uploads/2025/04/427bfa6b64c2a74292c2a2078ebc966d-Cropped.jpg
END:VEVENT
BEGIN:VEVENT
DTSTART;TZID=Europe/Paris:20250713T180000
DTEND;TZID=Europe/Paris:20250713T200000
DTSTAMP:20260422T223656
CREATED:20250710T180021Z
LAST-MODIFIED:20251113T160842Z
UID:3404-1752429600-1752436800@eskilstunacentrum.se
SUMMARY:Quilty
DESCRIPTION:Se Quilty live på Gamla Teatern! \nEmigrantvisor\, sea shanties\, ballader om ovanliga livsöden och storslagna äventyr till havs utgör stommen i Quiltys flärdfulla konsertprogram. En rik palett av irländska folkvisor som hyllar kärleken\, livets mångfald och dess djupa\, musikaliska rikedom. \nBakom musiken står trion Dag Westling\, Esbjörn Hazelius och Staffan Lindfors – som tillsammans bildar bandet Quilty\, en grupp som sedan starten 1993 vuxit fram som Sveriges främsta företrädare för irländsk folkmusik. \nKonserten hålls i Gamla Teatern – Sveriges äldsta landsortsteater som fortfarande är i bruk. Den charmiga lokalen rymmer scen på övervåningen och publikplatser på träbänkar. \nKvällen bjuder på två timmars musik\, inklusive paus. Ett enkelt café finns på plats med fika till försäljning. \nKonserten arrangeras av Scener och Evenemang\, Eskilstuna kommun. \nVarmt välkomna! \n  \n📍Gamla Teatern
URL:https://eskilstunacentrum.se/kalender/quilty/
LOCATION:södermanland
CATEGORIES:Happenings
ATTACH;FMTTYPE=image/jpeg:https://eskilstunacentrum.se/wp-content/uploads/2025/07/quilty-1080.jpg
END:VEVENT
END:VCALENDAR