test123BEGIN:VCALENDAR
VERSION:2.0
PRODID:-//Eskilstuna Centrum - ECPv6.15.20//NONSGML v1.0//EN
CALSCALE:GREGORIAN
METHOD:PUBLISH
X-WR-CALNAME:Eskilstuna Centrum
X-ORIGINAL-URL:https://eskilstunacentrum.se
X-WR-CALDESC:Händelser för Eskilstuna Centrum
REFRESH-INTERVAL;VALUE=DURATION:PT1H
X-Robots-Tag:noindex
X-PUBLISHED-TTL:PT1H
BEGIN:VTIMEZONE
TZID:Europe/Paris
BEGIN:DAYLIGHT
TZOFFSETFROM:+0100
TZOFFSETTO:+0200
TZNAME:CEST
DTSTART:20240331T010000
END:DAYLIGHT
BEGIN:STANDARD
TZOFFSETFROM:+0200
TZOFFSETTO:+0100
TZNAME:CET
DTSTART:20241027T010000
END:STANDARD
BEGIN:DAYLIGHT
TZOFFSETFROM:+0100
TZOFFSETTO:+0200
TZNAME:CEST
DTSTART:20250330T010000
END:DAYLIGHT
BEGIN:STANDARD
TZOFFSETFROM:+0200
TZOFFSETTO:+0100
TZNAME:CET
DTSTART:20251026T010000
END:STANDARD
BEGIN:DAYLIGHT
TZOFFSETFROM:+0100
TZOFFSETTO:+0200
TZNAME:CEST
DTSTART:20260329T010000
END:DAYLIGHT
BEGIN:STANDARD
TZOFFSETFROM:+0200
TZOFFSETTO:+0100
TZNAME:CET
DTSTART:20261025T010000
END:STANDARD
END:VTIMEZONE
BEGIN:VEVENT
DTSTART;TZID=Europe/Paris:20250627T103000
DTEND;TZID=Europe/Paris:20250627T120000
DTSTAMP:20260423T034142
CREATED:20250618T090030Z
LAST-MODIFIED:20251113T160843Z
UID:3389-1751020200-1751025600@eskilstunacentrum.se
SUMMARY:Plantera kålgårdsväxter
DESCRIPTION:Välkomna till leksmedjans trädgård för att plantera din egen kålgård i miniatyr. Vill du plantera kål\, bönor\, ärtor eller kanske ringblomma? \nVi använder återbrukade förpackningar och självklart får man ta med sig sin odling hem!
URL:https://eskilstunacentrum.se/kalender/plantera-kalgardsvaxter-2/
LOCATION:södermanland
CATEGORIES:Happenings
ATTACH;FMTTYPE=image/jpeg:https://eskilstunacentrum.se/wp-content/uploads/2025/06/radermachersmedjorna-odling-1920-1080.jpg
END:VEVENT
END:VCALENDAR