test123BEGIN:VCALENDAR
VERSION:2.0
PRODID:-//Eskilstuna Centrum - ECPv6.15.20//NONSGML v1.0//EN
CALSCALE:GREGORIAN
METHOD:PUBLISH
X-ORIGINAL-URL:https://eskilstunacentrum.se
X-WR-CALDESC:Händelser för Eskilstuna Centrum
REFRESH-INTERVAL;VALUE=DURATION:PT1H
X-Robots-Tag:noindex
X-PUBLISHED-TTL:PT1H
BEGIN:VTIMEZONE
TZID:Europe/Paris
BEGIN:DAYLIGHT
TZOFFSETFROM:+0100
TZOFFSETTO:+0200
TZNAME:CEST
DTSTART:20240331T010000
END:DAYLIGHT
BEGIN:STANDARD
TZOFFSETFROM:+0200
TZOFFSETTO:+0100
TZNAME:CET
DTSTART:20241027T010000
END:STANDARD
BEGIN:DAYLIGHT
TZOFFSETFROM:+0100
TZOFFSETTO:+0200
TZNAME:CEST
DTSTART:20250330T010000
END:DAYLIGHT
BEGIN:STANDARD
TZOFFSETFROM:+0200
TZOFFSETTO:+0100
TZNAME:CET
DTSTART:20251026T010000
END:STANDARD
BEGIN:DAYLIGHT
TZOFFSETFROM:+0100
TZOFFSETTO:+0200
TZNAME:CEST
DTSTART:20260329T010000
END:DAYLIGHT
BEGIN:STANDARD
TZOFFSETFROM:+0200
TZOFFSETTO:+0100
TZNAME:CET
DTSTART:20261025T010000
END:STANDARD
END:VTIMEZONE
BEGIN:VEVENT
DTSTART;TZID=Europe/Paris:20250625T120000
DTEND;TZID=Europe/Paris:20250625T124500
DTSTAMP:20260423T062517
CREATED:20250618T083705Z
LAST-MODIFIED:20251113T160843Z
UID:3376-1750852800-1750855500@eskilstunacentrum.se
SUMMARY:Lunchmusik med MKJ
DESCRIPTION:MKJ\, eller Min Kompis och Jag\, består av Pelle Mårdh och Mats Olof Säfström. De båda musikkompisarna träffades 2000 i bandet ”Bara ben” och där växte det fram en musikalisk inriktning som de tog med sig när de senare bildade MKJ. \n”Vi spelar musik från vår tid och blandar upp den med musiken vi hör idag. Musik som vi gillar\, helt enkelt! Så det blir allt från Dan Andersson till Bruce Springsteen.” \nVarmt välkomna till en trevlig stund på Fristadstorget! \nMed reservation för ändringar. \n  \nPlats – Fristadstorget
URL:https://eskilstunacentrum.se/kalender/lunchmusik-med-mkj/
LOCATION:södermanland
CATEGORIES:Happenings
ATTACH;FMTTYPE=image/jpeg:https://eskilstunacentrum.se/wp-content/uploads/2025/06/fristadtorg-1920-1080.jpg
END:VEVENT
BEGIN:VEVENT
DTSTART;TZID=Europe/Paris:20250625T160000
DTEND;TZID=Europe/Paris:20250625T200000
DTSTAMP:20260423T062517
CREATED:20250618T084122Z
LAST-MODIFIED:20251113T160843Z
UID:3379-1750867200-1750881600@eskilstunacentrum.se
SUMMARY:Vernissage: Sommar hos Boussard
DESCRIPTION:Fyra konstnärer ställer ut 25 juni-9 augusti. \n\nMonica Grahn Olsson – skulptur\, akryl\nLena Sjöberg – akvarell\nAgneta Hjalmarsson – akryl\nMats Boussard – foto\n\n\nVälkommen till Galleri Boussard på Köpmangatan 49\, Gamla Staden i Eskilstuna! \nVernissage 25 juni 16.00-20.00.\n\nÖvriga öppettider\nOnsdagar 13.00-17.00\nFredagar 13.00-18.00\nLördagar 11.00-16.00
URL:https://eskilstunacentrum.se/kalender/vernissage-sommar-hos-boussard/
LOCATION:södermanland
CATEGORIES:Happenings
ATTACH;FMTTYPE=image/jpeg:https://eskilstunacentrum.se/wp-content/uploads/2025/06/boussard-1929-1080.jpg
END:VEVENT
END:VCALENDAR